Workbook
Name Battery_Storage: 'Dev Notes'!$B$18:$B$24
Name Biomass: 'Dev Notes'!$B$64:$B$65
Name Fuel_Cell: 'Dev Notes'!$B$48:$B$49
Name Geothermal: 'Dev Notes'!$B$68:$B$69
Name Hydro: 'Dev Notes'!$B$44:$B$45
Name Methane_from_Waste: 'Dev Notes'!$B$52:$B$53
Name Ocean: 'Dev Notes'!$B$72:$B$73
Name Poultry_Litter_to_Energy: 'Dev Notes'!$B$60:$B$61
Name Solar_PV: 'Dev Notes'!$B$28:$B$34
Name Solar_Thermal: 'Dev Notes'!$B$76:$B$77
Name Wastewater_to_Heat: 'Dev Notes'!$B$56:$B$57
Name Wind: 'Dev Notes'!$B$38:$B$40

Sheet Instructions
A3: USER INSTRUCTIONS
A4: This calculator is for FY27 Megawatts for Maryland applications. This calculator can be used to submit project specifications, including project size, energy generated, grant amount requested, and GHG emissions avoided. Each project is eligible for only ONE grant application and ONE associated calculator. Applicants may submit a separate application and calculator for each additional project. This calculator has been designed for use in the Microsoft Excel desktop application. Other platforms may not render the calculator correctly. The calculator has two tabs for user input: 'Bid Calculator' and 'Reporting'. Guidance on their use is provided below. The other tabs are for reference only. Questions? Write to MEA at grid.mea@maryland.gov
C6: 'BID CALCULATOR' TAB
C7: Project Information
A8: Section | B8: Field Type | C8: Description
A9: MEA Assigned Application ID | B9: Alphanumeric input | C9: Provide the Application ID assigned to the project by MEA in Stage 1 of the application.
A10: Descriptive Title of Project | B10: Text input | C10: Enter the descriptive name of the project ("Project Nickname").
A11: Project Type Seeking Auction Funding | B11: Dropdown selection | C11: Select the project type for which auction funding is being sought.
C12: For the Tier 1 RE project or Storage project
A13: Technology Type | B13: Dropdown selection | C13: Select the technology type associated with the Tier 1 RE or Storage project.
A14: Technology Subtype | B14: Dropdown selection | C14: Select the technology subtype associated with the Tier 1 RE or Storage project. If the technology subtype is not listed, select Other and complete the applicable custom technology fields.
A15: Nameplate Capacity (MWac) | B15: Numerical input | C15: Enter the planned capacity of the system in units of Megawatt-AC (alternating current). Use MWth for technologies providing primarily a thermal output — wastewater to heat and geothermal.
A16: First-year Delivery to Grid (MWh) | B16: Numerical input | C16: Enter the estimated first-year energy delivered to the grid (MWh), before accounting for annual system degradation.
A17: System Lifetime (years) | B17: Auto-populated field | C17: Displays the associated system lifetime value for the selected technology type automatically, based on assumptions built into the calculator. Except when technology type is 'Other', the value must be entered manually into the additional field that appears.
A18: System Degradation Rate (%/year) | B18: Auto-populated field | C18: Automatically displays the annual degradation rate based on the selected technology and the associated assumptions built into the calculator. For 'Other', the value must be entered manually into the additional field that appears.
A19: Lifetime Delivery to Grid (MWh) | B19: Auto-populated field | C19: Automatically calculates estimated lifetime energy delivery using first-year delivery, annual degradation rate, and system lifetime.
C20: For the Tier 1 RE project or Storage project, Technology Subtype 'Other' Only
A21: Custom Technology Name | B21: Text input | C21: If 'Other' is selected as the Technology Subtype, enter the name of the custom technology subtype planned for deployment. This field should be used only if none of the standard technology subtypes built into the Bid Calculator match the planned project.
A22: Custom Technology Lifetime (years) | B22: Numerical input | C22: Enter the expected lifetime of the custom technology in years. Supporting documentation must be provided to substantiate this value.
A23: Custom Technology Degradation Rate (%/year) | B23: Numerical input | C23: Enter the expected annual rate of degradation of the technology as a percentage value per year. Supporting documentation must be provided to substantiate this value.
C24: For Co-located Storage Only
A25: Battery Technology | B25: Dropdown selection | C25: Select the primary technology type from the list of applicable options. For a technology type other than those listed, select Other and provide the additional information in the field that appears.
A26: Battery Technology Lifetime (years) | B26: Auto-populated field | C26: Displays the associated system lifetime value for the selected technology type automatically, based on assumptions built into the calculator. Except, when battery technology is 'Other', the value must be entered manually into the additional field that appears.
A27: Battery Technology Degradation Rate (%/year) | B27: Auto-populated field | C27: Automatically displays the annual degradation rate based on the selected technology and the associated assumptions built into the calculator. For 'Other', the value must be entered manually into the additional field that appears.
A28: Battery Capacity (MWac) | B28: Numerical input | C28: Enter the capacity of the co-located battery system in terms of Megawatts-AC (alternating current)
A29: Battery First-year Dispatch to Grid (MWh-ac) | B29: Numerical input | C29: Enter the annual energy delivered to the grid in terms of Megawatt-hours-AC
A30: Lifetime Dispatch to Grid (MWh) | B30: Auto-populated field | C30: Calculates lifetime energy dispatched from the co-located battery system using annual dispatch, system lifetime, and degradation rate. Uses reference values for listed technologies and custom inputs when Other is selected.
C31: For co-located Storage, Technology Subtype 'Other' Only
A32: Other Battery Technology Name | B32: Text input | C32: If 'Other' is selected as the co-located battery technology, enter the name of the custom battery technology
A33: Other Battery Technology Lifetime (years) | B33: Numerical input | C33: Enter the expected operating lifetime of the custom co-located battery technology in years. Required when 'Other' is selected as the battery technology type.
A34: Other Battery Technology Degradation Rate (%/year) | B34: Numerical input | C34: Enter the expected annual degradation rate of the custom co-located battery technology as a percentage. Required when 'Other' is selected as the battery technology type.
C35: Total Lifetime Delivery to Grid From Project
A36: Project Lifetime Delivery to Grid (MWh) | B36: Auto-calculated field | C36: Sums up system contributions across individual or hybrid technologies to calculate Project lifetime MWh delivered to grid
C37: Project Bid
A38: Estimated Project Cost ($) | B38: Numerical input | C38: Enter the estimated total cost of the project. Include all applicable capital expenses and interconnection costs
A39: Bid Amount ($ requested/MWh lifetime) | B39: Numerical input | C39: Enter the amount being requested in terms of dollars and cents per unit of energy delivered to the Grid over the system lifetime
A40: Grant Amount Requested ($) | B40: Auto-calculated field | C40: Calculates the total grant amount requested by multiplying the bid amount ($/MWh) by total project lifetime delivery (MWh).
A41: Grant Amount as Percent (%) of Total Project Cost | B41: Auto-calculated field | C41: Displays the total grant amount as a percentage of the total project cost. This value is calculated by dividing the total grant amount by the total project cost
C43: 'REPORTING' TAB
A44: Section | B44: Field Type | C44: Description
...

Sheet Bid Calculator
A4: PROJECT INFORMATION
A5: Enter project information in the cells highlighted in yellow. Cells with gray background are auto-calculated. *Fields marked with a red asterisk indicate required inputs.
A7: MEA Assigned Application ID* | C7: Descriptive Title of Project* | E7: Project Type Seeking Auction Funding* | G7: =IF(OR($F$7="",$B$11=""),"",IF(OR(AND(OR($F$7="Tier 1 RE",$F$7="Tier 1 RE + Storage"),$B$11="Battery Storage"),AND($F$7="Storage",$B$11<>"Battery Storage")),"⚠ Technology type in B11 does not match the project type selected in F7.",IF($D$11="","",IFERROR(IF(COUNTIF(INDIRECT(SUBSTITUTE(SUBSTITUTE($B$11," ","_"),"-","_")),$D$11)=0,"⚠ Select an applicable technology subtype in cell D11 from the dropdown menu.",""),""))))
A9: =IF($F$7="","",IF($F$7="Tier 1 RE + Storage","For the Tier 1 RE project","For the "&$F$7&" project"))
A11: Technology Type* | C11: Technology Subtype* | E11: Nameplate Capacity (MWac)* | G11: First-year Delivery to Grid (MWh)*
A13: System Lifetime (years) | B13: {=IF(OR($B$11="",$D$11=""),"", IF($D$11="Other",IF($D$17="","",$D$17), IFERROR(_xlfn.SWITCH($B$11, "Battery Storage",_xlfn.XLOOKUP($D$11,'Dev Notes'!$B$18:$B$24,'Dev Notes'!$C$18:$C$24,NA()), "Solar PV",_xlfn.XLOOKUP($D$11,'Dev Notes'!$B$28:$B$34,'Dev Notes'!$C$28:$C$34,NA()), "Wind",_xlfn.XLOOKUP($D$11,'Dev Notes'!$B$38:$B$40,'Dev Notes'!$C$38:$C$40,NA()), "Hydro",IF($D$11='Dev Notes'!$B$44,'Dev Notes'!$C$44,NA()), "Fuel Cell",IF($D$11='Dev Notes'!$B$48,'Dev Notes'!$C$48,NA()), "Methane-from-Waste",IF($D$11='Dev Notes'!$B$52,'Dev Notes'!$C$52,NA()), "Wastewater-to-Heat",IF($D$11='Dev Notes'!$B$56,'Dev Notes'!$C$56,NA()), "Poultry Litter-to-Energy",IF($D$11='Dev Notes'!$B$60,'Dev Notes'!$C$60,NA()), "Biomass",IF($D$11='Dev Notes'!$B$64,'Dev Notes'!$C$64,NA()), "Geothermal",IF($D$11='Dev Notes'!$B$68,'Dev Notes'!$C$68,NA()), "Ocean",IF($D$11='Dev Notes'!$B$72,'Dev Notes'!$C$72,NA()), "Solar Thermal",IF($D$11='Dev Notes'!$B$76,'Dev Notes'!$C$76,NA()), NA()),"")))} | C13: System Degradation Rate (%/year) | D13: {=IF(OR($B$11="",$D$11=""),"", IF($D$11="Other",IF($F$17="","",$F$17), IFERROR(_xlfn.SWITCH($B$11, "Battery Storage",_xlfn.XLOOKUP($D$11,'Dev Notes'!$B$18:$B$23,'Dev Notes'!$D$18:$D$23,NA()), "Solar PV",_xlfn.XLOOKUP($D$11,'Dev Notes'!$B$28:$B$33,'Dev Notes'!$D$28:$D$33,NA()), "Wind",_xlfn.XLOOKUP($D$11,'Dev Notes'!$B$38:$B$39,'Dev Notes'!$D$38:$D$39,NA()), "Hydro",IF($D$11='Dev Notes'!$B$44,'Dev Notes'!$D$44,NA()), "Fuel Cell",IF($D$11='Dev Notes'!$B$48,'Dev Notes'!$D$48,NA()), "Methane-from-Waste",IF($D$11='Dev Notes'!$B$52,'Dev Notes'!$D$52,NA()), "Wastewater-to-Heat",IF($D$11='Dev Notes'!$B$56,'Dev Notes'!$D$56,NA()), "Poultry-Litter-to-Energy",IF($D$11='Dev Notes'!$B$60,'Dev Notes'!$D$60,NA()), "Biomass",IF($D$11='Dev Notes'!$B$64,'Dev Notes'!$D$64,NA()), "Geothermal",IF($D$11='Dev Notes'!$B$68,'Dev Notes'!$D$68,NA()), "Ocean",IF($D$11='Dev Notes'!$B$72,'Dev Notes'!$D$72,NA()), "Solar Thermal",IF($D$11='Dev Notes'!$B$76,'Dev Notes'!$D$76,NA()), NA()),"")))}
C15: =IF($F$7="","",IF($F$7="Tier 1 RE + Storage","For the Tier 1 RE project, Technology Subtype 'Other' Only","For the "&$F$7&" project, Technology Subtype 'Other' Only"))
A17: Custom Technology Name* | C17: Custom Technology Lifetime (years)* | E17: Custom Technology Degradation Rate (%/year)* | G17: Lifetime Delivery to Grid (MWh) | H17: =IFERROR(_xlfn.LET( _xlpm.Life,$B$13, _xlpm.AnnualGen,$H$11, _xlpm.Rate,$D$13, _xlpm.D,IF(OR(_xlpm.Rate="-",_xlpm.Rate=""),0,_xlpm.Rate), IF(OR(_xlpm.Life="",_xlpm.Life<=0,_xlpm.AnnualGen="",NOT(ISNUMBER(_xlpm.D)),_xlpm.D<0,_xlpm.D>=1),0, IF(_xlpm.D=0, _xlpm.AnnualGen*_xlpm.Life, _xlpm.AnnualGen*(1-(1-_xlpm.D)^_xlpm.Life)/_xlpm.D)) ),0) -> 0
A19: =IF($F$7="Tier 1 RE + Storage","For Co-located Storage Only",IF(OR($F$7="Tier 1 RE",$F$7="Storage"),"Scroll Below for Project Bid",""))
A21: Battery Technology*
A23: Battery Technology Lifetime (years)* | B23: =IF(OR($B$21="",$B$21="Other"),"",IFERROR(_xlfn.XLOOKUP($B$21,'Dev Notes'!$B$18:$B$23,'Dev Notes'!$C$18:$C$23),"")) | C23: Battery Technology Degradation Rate (%/year)* | D23: =IF(OR($B$21="",$B$21="Other"),"",IFERROR(_xlfn.XLOOKUP($B$21,'Dev Notes'!$B$18:$B$23,'Dev Notes'!$D$18:$D$23),"")) | E23: Battery Capacity (MWac)* | G23: Battery First-year Dispatch to Grid (MWh-ac)*
A25: Other Battery Technology Name* | C25: Other Battery Technology Lifetime (years)* | E25: Other Battery Technology Degradation Rate (%/year)* | G25: Lifetime Dispatch to Grid (MWh-ac) | H25: =IF(OR($B$21="",$H$23="",AND($B$21="Other",OR($D$25="",$F$25=""))),"",IFERROR(_xlfn.LET(_xlpm.Lifetime,IF($B$21="Other",$D$25,_xlfn.XLOOKUP($B$21,'Dev Notes'!$B$18:$B$24,'Dev Notes'!$C$18:$C$24)),_xlpm.Degradation,IF($B$21="Other",$F$25,_xlfn.XLOOKUP($B$21,'Dev Notes'!$B$18:$B$24,'Dev Notes'!$D$18:$D$24)),IF(_xlpm.Degradation=0,$H$23*_xlpm.Lifetime,$H$23*(1-(1-_xlpm.Degradation)^_xlpm.Lifetime)/_xlpm.Degradation)),""))
A27: Total Lifetime Delivery to Grid From Project
G29: Project Lifetime Delivery to Grid (MWh) | H29: =IF($F$7="Tier 1 RE + Storage",SUM($H$17,$H$25),$H$17) -> 0
A31: PROJECT BID
A32: The bid amount cannot be changed after this application stage.
A34: Estimated Project Cost ($)* Include all applicable CapEx and Interconnection costs | C34: Bid Amount ($ requested/MWh lifetime)* | E34: Grant Amount Requested ($) | F34: =IFERROR(IF($F$7="Tier 1 RE + Storage",IF(OR($H$17="",$H$25=""),"",$D$34*($H$17+$H$25)),IF(OR($F$7="Tier 1 RE",$F$7="Storage"),IF($H$17="","",$D$34*$H$17),"")),"") | G34: Grant Amount as Percent (%) of Total Project Cost | H34: =IFERROR(IF($F$34/$B$34>30%,"⚠ Grant request is "&TEXT($F$34/$B$34,"0.0%")&" of project cost.",$F$34/$B$34),"-") -> -

Sheet Reporting
A3: Key Performance Indicators (KPIs) Enter project information in the cells highlighted in yellow. Cells with gray background are auto-calculated. *Fields marked with an asterisk are required
A4: PROJECT METRICS
A5: Enter information in the cells highlighted in yellow.
A7: MEA Assigned Application ID | B7: =IF('Bid Calculator'!$B$7="","", 'Bid Calculator'!$B$7) | C7: Descriptive Title of Project | D7: =IF('Bid Calculator'!$D$7="","", 'Bid Calculator'!$D$7) | E7: Project Type Seeking Auction Funding | F7: ='Bid Calculator'!$F$7 -> 0 | G7: Technology Type | H7: ='Bid Calculator'!$B$11 -> 0
A9: Technology Subtype | B9: ='Bid Calculator'!$D$11 -> 0 | C9: Lifetime GHG Emissions Avoided (MT CO2e) | D9: =IF(Reporting!$F$11="Yes",IFERROR('Bid Calculator'!$H$29*Reference!$C$27,"-"),"-") -> - | E9: Marginal Cost of Abatement to MEA (MEA$/Lifetime MT CO2e reduced) | F9: =IFERROR('Bid Calculator'!$F$34/$D$9,"-") -> - | G9: Total Leveraged Funding ($) (non-MEA)*
A11: Number of Devices Tied to Grid Services* | C11: Capacity Tied to Grid Services (MW)* | E11: Does the Project Reduce Grid Demand?*
A13: Total Jobs Created* | C13: Construction Jobs Created* | E13: No. of Permanent Jobs Created* | G13: Investment in Overburdened Census Tracts ($)*

Sheet Update Log
A1: Update Log v.1.000 To report bugs or suggest features, write to MEA at grid.mea@maryland.gov
A3: ID | B3: Date Logged | C3: Type | D3: Description | E3: Version | F3: Status

Sheet Reference
B2: TIER 1 Renewables
A3: Renewable Type | B3: Lifetime (years) | C3: Fuel Displaced | D3: Unit | F3: Reference
A4: Solar PV | B4: 30 | C4: Electricity | D4: MWh | F4: NREL ATB 2024b (Technical Life)
A5: Solar Thermal (CSP) | B5: 30 | C5: Electricity | D5: MWh | F5: NREL ATB 2024b (Technical Life)
A6: Wind | B6: 30 | C6: Electricity | D6: MWh | F6: NREL ATB 2024b (Technical Life)
A7: Hydro < 30 MW | B7: 100 | C7: Electricity | D7: MWh | F7: NREL ATB 2024b (Technical Life)
A8: Fuel Cell | B8: 20 | C8: Electricity | D8: MWh | F8: Clean Hydrogen Partnership, Large scale FC installations (0.4 - 30 MW) for hydrogen and renewable methane, 2021 (Technical Life)
A9: Methane-from-Waste | B9: 15 | C9: Electricity | D9: MWh | F9: EPA Landfill Gas Energy Cost Model (Technical Life)
A10: Waste-to-heat | B10: 25 | C10: Electricity | D10: MWh | F10: Danish Energy Agency, Technology Data for Generation of Electricity and District Heating, 2026 (Technical Life)
A11: Poultry Litter-to-Energy | B11: 25 | C11: Electricity | D11: MWh | F11: Technical Life taken from Waste-to-heat as a conservative estimate. No credible reference found.
A12: Biomass | B12: 45 | C12: Natural Gas | D12: MWh | F12: NREL ATB 2024b (Technical Life)
A13: Geothermal | B13: 30 | C13: Natural Gas | D13: MWh | F13: NREL ATB 2024b (Technical Life)
A14: Ocean | B14: 25 | C14: Electricity | D14: MWh | F14: Placeholder value for Technical Life. No credible reference found.
B16: Energy Storage Type
A17: Battery Technology | B17: Lifetime (years) | C17: Fuel Displaced | D17: Unit | E17: Degradation Rate (Calendar Life) (%/yr) | F17: Reference
A18: Li-Ion (Phosphate) | B18: 16 | C18: Electricity | D18: MWh | E18: 0.030417 | F18: Point values for the year 2023 for a 10 MW, 4 hour duration battery, cycling once per day taken as the reference cases for degradation rates and technical life. Source for formulas: Pacific Northwest National Laboratory (PNNL) Energy Storage Cost and Performance Database (2024)
A19: Li-Ion (NMC) | B19: 13 | C19: Electricity | D19: MWh | E19: 0.048026
A20: Lead Acid | B20: 14 | C20: Electricity | D20: MWh | E20: 0.061647
A21: Zinc | B21: 12 | C21: Electricity | D21: MWh | E21: 0.013905
A22: Vanadium Redox Flow | B22: 12 | C22: Electricity | D22: MWh | E22: 0.019797
A23: Pumped Storage Hydropower (PSH) | B23: 60 | C23: Electricity | D23: MWh | E23: 0
B25: Emissions Factor
A26: Fuel | B26: Unit | C26: Emissions Factor (MT CO2e/unit) | F26: Reference
A27: Electricity | B27: MWh | C27: 0.2725076 | F27: MDE GHG Inventory (2023)
B29: Technology Assumptions
A30: Solar PV Technology | B30: Lifetimes (years) | C30: Degradation Rate (%/yr) | F30: Reference
A31: p-type mono PERC | B31: 30 | C31: 0.0069 | F31: Median PLRs (%/yr) taken for the high light level scenario NREL - Jordan et al. 2022, Photovoltaic fleet degradation insights
A32: Heterojunction (HJT/SHJ) | B32: 30 | C32: 0.0051
A33: Back-contact (IBC) | B33: 30 | C33: 0.0079
A34: CdTe thin film | B34: 30 | C34: 0.0061
A35: Multi-Si Al-BSF | B35: 30 | C35: 0.0074
A36: n-type mono (Conventional) | B36: 30 | C36: 0.005 | F36: LG NeON 2 Black (LG320N1K-A5)
A37: Wind Technology | B37: Lifetimes (years) | C37: Degradation Rate (%/yr) | F37: Reference
A38: Land-based, geared drivetrain | B38: 30 | C38: 0.0017 | F38: Year 1 - 10 performance (degradation rate) of New cohort of on-shore wind projects (2008 and newer) taken Berkeley Lab, 2020 - How Does Wind Project Performance Change with Age in the United States?
A39: Land-based, direct-drive | B39: 30 | C39: 0.0017
B41: External Tools
A42: Tool Name | B42: Developed By | F42: Reference
A43: Jobs and Economic Impact Development (JEDI) Tool | B43: National Laboratory of the Rockies (NLR) | F43: https://www.nlr.gov/analysis/jedi/about
A44: MDEnviroScreen Tool | B44: Maryland Department of the Environment (MDE) | F44: https://mde.maryland.gov/Environmental_Justice/Pages/MDEnviroScreen.aspx
A45: Research article - Jobs/MW factors for battery projects | B45: Rutovitz et al. | F45: https://doi.org/10.1016/j.rser.2025.115339

Sheet Dev Notes
B1: Type of Project
B2: Solar PV
B3: Solar Thermal | D3: Project Type Selection
B4: Wind | D4: Tier 1 RE
B5: Hydro | D5: Storage
B6: Fuel Cell | D6: TIER 1 RE + Storage
B7: Methane-from-Waste
B8: Wastewater-to-Heat | D8: Grid demand reduction
B9: Poultry Litter-to-Energy | D9: Yes/No
B10: Biomass | D10: Yes
B11: Geothermal | D11: No
B12: Ocean
B13: Battery Storage
B17: Battery Technology | C17: Lifetime (years) | D17: Degradation Rate (%/yr)
B18: Li-Ion LFP | C18: =Reference!B18 -> 16 | D18: 0.030417
B19: Li-Ion NMC | C19: =Reference!B19 -> 13 | D19: 0.048026
B20: Lead Acid | C20: =Reference!B20 -> 14 | D20: 0.061647
B21: Zinc | C21: =Reference!B21 -> 12 | D21: 0.013905
B22: Vanadium Redox Flow | C22: =Reference!B22 -> 12 | D22: 0.019797
B23: Pumped Storage Hydropower (PSH) | C23: =Reference!B23 -> 60 | D23: 0
B24: Other | C24: =Reference!B24 -> 0 | D24: -
B27: Solar PV Technology | C27: Lifetime (years) | D27: Degradation Rate (%/yr)
B28: n-type mono (Conventional) | C28: 30 | D28: 0.005
B29: p-type mono PERC | C29: 30 | D29: 0.0069
B30: Heterojunction (HJT/SHJ) | C30: 30 | D30: 0.0051
B31: Back-contact (IBC) | C31: 30 | D31: 0.0079
B32: CdTe thin film | C32: 30 | D32: 0.0061
B33: Multi-Si Al-BSF | C33: 30 | D33: 0.0074
B34: Other | C34: - | D34: -
B37: Wind Technology | C37: Lifetime (years) | D37: Degradation Rate (%/yr)
B38: Land-based, geared drivetrain | C38: 30 | D38: 0.0017
B39: Land-based, direct-drive | C39: 30 | D39: 0.0017
B40: Other | C40: - | D40: -
B43: Hydro | C43: Lifetime | D43: Degradation Rate (%)
B44: Hydro | C44: 100 | D44: -
B45: Other | C45: - | D45: -
B47: Fuel Cell | C47: Lifetime | D47: Degradation Rate (%)
B48: Fuel Cell | C48: 20 | D48: -
B49: Other | C49: - | D49: -
B51: Methane-from-Waste | C51: Lifetime | D51: Degradation Rate (%)
...
