Workbook
Name Active_ECMs: CHOOSE({1,2,3,4}, 'User Inputs'!$B$34, 'User Inputs'!$D$34, 'User Inputs'!$F$34, 'User Inputs'!$H$34 )

Sheet Instructions
A3: USER INSTRUCTIONS
A4: This calculator is for FY27 Commercial & Community Buildings Grant Program applications. This calculator can be used to quantify the energy savings, cost savings, grant amounts, GHG emissions, and GHG reduction investment for proposed projects. Each building is eligible for only ONE grant application and ONE associated calculator. Applicants may submit a separate application and calculator for each additional building. This calculator is designed for use in Microsoft Excel. The calculator has three tabs for users: 'User Inputs' , 'Budget & Timeline', and 'Calculated Metrics'. Guidance on their use is provided below. Two other tabs are for reference only.
A6: USER INPUTS
A7: Section | B7: Description
A8: 1. Project Information | B8: Enter basic project details, including applicant information, building characteristics, and applicable Energy Conservation Measures (ECMs). Select the number of ECMs to display the corresponding ECM input fields. For projects requesting more than four ECMs, please contact commercialcommunity.mea@maryland.gov to request a version of the calculator that supports additional ECMs.
A9: 2. Baseline Energy Consumption | B9: Enter the building’s annual baseline energy consumption for electricity, natural gas, propane, Fuel Oil No. 2, and coal as applicable
A10: 3. Utility Rates | B10: Standardized values are used as default utility rates to determine projected costs
A11: 4. Proposed Measures | B11: Select the applicable electrification and energy efficiency measure(s)
A12: 5. Projected Energy Savings | B12: Enter the estimated annual energy savings for each selected ECM, including electricity, natural gas, propane, Fuel Oil No. 2 savings, and coal as applicable
A13: 6. Projected Costs | B13: Enter project costs for each selected ECM
A14: 7. Proposed Solar PV System | B14: For projects that include Solar PV, enter the proposed system size, ownership, estimated annual electricity production, total project cost, and requested grant amount for each applicable installation type.
A15: 8. Solar PV Grant Request Validation | B15: Review the Solar PV validation results to confirm that the requested grant amount complies with the applicable MEA $/kW incentive rate and project cost share limit for each proposed installation type.
A16: 9. Key Metrics | B16: Provides an at-a-glance summary of key metrics, eliminating the need to switch between tabs Total MEA Grant Request: The calculated Total MEA Grant Request represents the amount for which the project may qualify based on the applicable program requirements and applicant-entered information. It does not represent a final grant award.
A18: BUDGET & TIMELINE
A19: Section | B19: Description
A20: 1. Funding Sources | B20: Enter all project funding sources
A21: 2. Funding Uses | B21: Enter the estimated project costs, including the proposed use of grant funds and other eligible project expenses
A22: 3. Timeline | B22: Review the project timeline and enter the expected completion date for each applicable project milestone
A24: CALCULATED METRICS
A25: Section | B25: Description
A26: 1. Projected Energy Consumption | B26: Displays the projected post-project energy consumption based on the baseline consumption and subsequent projected ECM savings
A27: 2. Projected Costs | B27: Displays total project costs based on the ECM costs entered
A28: 3. Projected Savings | B28: Displays the projected annual energy and utility cost savings and simple payback associated with the proposed ECMs
A29: 4. Funding Impact | B29: Displays applicable incentive rates, calculated grant amounts, and applicable Solar PV funding metrics
A30: 5. Carbon Impact | B30: Displays the estimated annual greenhouse gas (GHG) emissions reductions associated with the projected energy savings using emissions factors from the “Lookups” tab

Sheet User Inputs
A3: USER INPUTS * Fields marked with an asterisk are required. Each building is eligible for only ONE grant application and ONE associated calculator.
A5: PROJECT INFORMATION
A6: Enter project-level information in the highlighted cells.
A8: Grantee/ Organization Name* | C8: Project Name* | E8: Project County* | G8: Maryland Benchmarking ID (UBID - Unique Building ID )* | I8: Montgomery County Benchmarking ID (MBID)*
A10: Building Type* | C10: Building Square Footage* | E10: Number of ECMs not including Solar* | G10: What type of Solar PV does this project include?*
A12: Is this building covered by BEPS?* | C12: Click here to check if your building is covered by State BEPS
C13: Click here to check if your building is covered by Montgomery County BEPS
C14: Click here to check if your PreK-12 Public School is covered by the ENOUGH Act
C15: Click here to check if your PreK-12 Public School is located in an Overburdened Census Tract
A17: Brief Project Description* (250 Character Limit )
A19: EXISTING CONDITIONS
A20: BASELINE ENERGY CONSUMPTION
A21: Enter current annual energy consumption for each applicable fuel type in the highlighted cells. Only enter data for fuel types relevant to the facility. All energy consumption data should reflect the entire building's annual energy use.
A23: Electricity Consumption (kWh/year) | C23: Natural Gas Consumption (therms/year) | E23: Propane Consumption (gallons/year) | G23: Fuel Oil #2 Consumption (gallons/year) | I23: Coal Consumption (tons/year)
A25: UTILITY RATES
A26: Default utility rates are automatically populated using current standardized values.
A28: Electricity ($/kWh) | B28: ='Embedded Values'!$D$13 -> 0.1819 | C28: Natural Gas ($/therm) | D28: ='Embedded Values'!$D$14 -> 0.7717 | E28: Propane ($/gallon) | F28: ='Embedded Values'!$D$15 -> 1.22 | G28: Fuel Oil #2 ($/gallon) | H28: ='Embedded Values'!$D$16 -> 4.612 | I28: Coal ($/ton) | J28: ='Embedded Values'!$D$17 -> 95.93
A30: ELECTRIFICATION AND ENERGY EFFICIENCY
A31: PROPOSED MEASURES
A32: Select the applicable electrification and energy efficiency measure(s) below. Solar photovoltaic (PV) measures are entered separately in the Solar Measures section. If you need to include more than four ECMs, you can request a version of the calculator that contains additional ECM dropdowns
A34: ECM 1. | B34: Commercial Appliances — Fuel Switching | C34: ECM 2. | D34: Air Sealing/ Insulation | E34: ECM 3. | F34: Building Automation Systems/Controls | G34: ECM 4. | H34: Window and Exterior Door Replacements | I34: Energy measures do not apply to this project application. ↓ Scroll down to next section ↓
A36: PROJECTED ENERGY SAVINGS
A37: Enter the expected annual energy savings for each ECM in the highlighted cells. Only enter data for fuel types relevant to the facility. Enter savings as positive values and increases as negative values. If a project is expected to result in an increase in electricity usage, enter the increase as a negative value.
A39: Electricity Savings | B39: kWh/year | C39: Natural Gas Savings | D39: therms/year | E39: Propane Savings | F39: gallons/year | G39: Fuel Oil Savings | H39: gallons/year | I39: Coal Savings | J39: tons/year
A41: =IF($B$34="[Select an ECM from the dropdown list]", "", $A$34&" "&$B$34 ) -> ECM 1. Commercial Appliances — Fuel Switching | B41: 50000 | C41: =$A$41 -> ECM 1. Commercial Appliances — Fuel Switching | D41: 0 | E41: =$A$41 -> ECM 1. Commercial Appliances — Fuel Switching | F41: 0 | G41: =$A$41 -> ECM 1. Commercial Appliances — Fuel Switching | H41: 0 | I41: =$A$41 -> ECM 1. Commercial Appliances — Fuel Switching | J41: 0
A43: =IF($D$34="[Select an ECM from the dropdown list]", "", $C$34&" "&$D$34 ) -> ECM 2. Air Sealing/ Insulation | C43: =$A$43 -> ECM 2. Air Sealing/ Insulation | E43: =$A$43 -> ECM 2. Air Sealing/ Insulation | G43: =$A$43 -> ECM 2. Air Sealing/ Insulation | I43: =$A$43 -> ECM 2. Air Sealing/ Insulation
A45: =IF($F$34="[Select an ECM from the dropdown list]", "", $E$34&" "&$F$34 ) -> ECM 3. Building Automation Systems/Controls | C45: =$A$45 -> ECM 3. Building Automation Systems/Controls | E45: =$A$45 -> ECM 3. Building Automation Systems/Controls | G45: =$A$45 -> ECM 3. Building Automation Systems/Controls | I45: =$A$45 -> ECM 3. Building Automation Systems/Controls
A47: =IF($H$34="[Select an ECM from the dropdown list]", "", $G$34&" "&$H$34 ) -> ECM 4. Window and Exterior Door Replacements | C47: =$A$47 -> ECM 4. Window and Exterior Door Replacements | E47: =$A$47 -> ECM 4. Window and Exterior Door Replacements | G47: =$A$47 -> ECM 4. Window and Exterior Door Replacements | I47: =$A$47 -> ECM 4. Window and Exterior Door Replacements
A49: PROJECTED COSTS
A50: Enter project costs for each selected ECM in the corresponding highlighted cells.
A52: =$A$41 -> ECM 1. Commercial Appliances — Fuel Switching | B52: 100000 | C52: =$A$43 -> ECM 2. Air Sealing/ Insulation | D52: 50000 | E52: =$A$45 -> ECM 3. Building Automation Systems/Controls | F52: 30000 | G52: =$A$47 -> ECM 4. Window and Exterior Door Replacements | H52: 25000
A54: SOLAR
A55: PROPOSED SOLAR PV SYSTEM
A56: Complete this section only for projects that include a solar PV installation. Enter the proposed system size, ownership, estimated annual electricity production, total project cost, and requested grant amount for each applicable installation type.
A57: GROUNDMOUNT OR ROOFTOP INSTALLATION
A58: Proposed Solar PV System Size (kW) | C58: Type of Ownership | E58: Estimated Annual Electricity Production (kWh/year) | G58: Solar PV System Total Project Costs | I58: Solar PV Requested Grant Amount
A59: =IF( $B$10='Dev. Notes'!$B$17, "Solar PV is not applicable to Commercial Buildings.", IF( $H$10='Dev. Notes'!$B$4, "No Solar PV in this project.", "SOLAR CANOPY INSTALLATION" ) ) -> SOLAR CANOPY INSTALLATION
A60: Proposed Solar PV System Size (kW) | C60: Type of Ownership | E60: Estimated Annual Electricity Production (kWh/year) | G60: Solar PV System Total Project Costs | I60: Solar PV Requested Grant Amount
A62: SOLAR PV COST VALIDATION
A63: The calculator automatically determines the requested grant amount per kW and verifies that the requested grant complies with the applicable MEA incentive rate and project cost share limit.
...

Sheet Budget & Timeline
A3: PROJECT BUDGET AND TIMELINE
A4: Fill out the budget and timeline tables to the best of your knowledge and ability. Estimations are acceptable. Add lines in the tables where needed. Be sure to account for the total project cost, which includes the requested MEA grant and all other sources and uses of funds.
A6: Organization Name | B6: =IF('User Inputs'!$B$8="","",'User Inputs'!$B$8) | C6: Project Description | D6: =IFERROR(IF('User Inputs'!$B$17="","",'User Inputs'!$B$17),"")
A8: FUNDING SOURCES
A9: Enter other sources and amounts of funding for this project, such as utility rebates or grants, which will be stacked along with the MEA grant. The grant value calculated indicates the requested amount for which this project may qualify, not the final award amount.
A10: Source | C10: Amount | E10: Percentage of Source Funds
E11: =IFERROR(C11/$C$19,0) -> 0
E12: =IFERROR(C12/$C$19,0) -> 0
E13: =IFERROR(C13/$C$19,0) -> 0
E14: =IFERROR(C14/$C$19,0) -> 0
E15: =IFERROR(C15/$C$19,0) -> 0
E16: =IFERROR(C16/$C$19,0) -> 0
E17: =IFERROR(C17/$C$19,0) -> 0
A18: MEA Commercial & Community Buildings Grant | C18: ='Calculated Metrics'!$F$32 -> Select building type in cell B10 of user inputs | E18: =IFERROR(C18/$C$19,0) -> 0
A19: TOTAL | C19: =SUM($C$11:$D$18) -> 0 | E19: =SUM($E$11:$F$18) -> 0
A21: FUNDING USES
A22: Line Item | C22: Source of Estimate | E22: Cost
A31: TOTAL | E31: =SUM($C$11:$D$18) -> 0
A33: TIMELINE
A34: Project Milestone | C34: Expected Completion Date
A35: Award Notice from MEA
A36: Pre-Implementation
A37: Design Completion
A38: Materials on Site
A39: Project Completion
A40: Final Report Submitted to MEA

Sheet Calculated Metrics
A3: CALCULATED METRICS
A4: This tab is only for viewing calculator outputs. No inputs are to be made here.
A6: PROJECTED ENERGY CONSUMPTION
A8: Electricity Consumption (kWh/year) | B8: {=_xlfn.LET( _xlpm.baseline,IFERROR(--'User Inputs'!$B$23,0), _xlpm.nonSolarSavings, SUM( IF('User Inputs'!$F$10>=1,IFERROR(--'User Inputs'!$B$41,0),0), IF('User Inputs'!$F$10>=2,IFERROR(--'User Inputs'!$B$43,0),0), IF('User Inputs'!$F$10>=3,IFERROR(--'User Inputs'!$B$45,0),0), IF('User Inputs'!$F$10>=4,IFERROR(--'User Inputs'!$B$47,0),0) ), _xlpm.solarProduction, IF( 'User Inputs'!$B$10='Dev. Notes'!$B$17, 0, _xlfn.SWITCH( 'User Inputs'!$H$10, 'Dev. Notes'!$B$5,IFERROR(--'User Inputs'!$F$58,0), 'Dev. Notes'!$B$6,IFERROR(--'User Inputs'!$F$60,0), 'Dev. Notes'!$B$7, IFERROR(--'User Inputs'!$F$58,0) +IFERROR(--'User Inputs'!$F$60,0), 0 ) ), _xlpm.baseline-_xlpm.nonSolarSavings-_xlpm.solarProduction )} -> 0 | C8: Natural Gas Consumption (therms/year) | D8: =IF( OR('User Inputs'!$F$10="",'User Inputs'!$F$10=0), 0, 'User Inputs'!$D$23- SUM( IF('User Inputs'!$F$10>=1,IFERROR(--'User Inputs'!$D$41,0),0), IF('User Inputs'!$F$10>=2,IFERROR(--'User Inputs'!$D$43,0),0), IF('User Inputs'!$F$10>=3,IFERROR(--'User Inputs'!$D$45,0),0), IF('User Inputs'!$F$10>=4,IFERROR(--'User Inputs'!$D$47,0),0) ) ) -> 0 | E8: Propane Consumption (gallons/year) | F8: =IF( OR('User Inputs'!$F$10="",'User Inputs'!$F$10=0), 0, 'User Inputs'!$F$23- SUM( IF('User Inputs'!$F$10>=1,IFERROR(--'User Inputs'!$F$41,0),0), IF('User Inputs'!$F$10>=2,IFERROR(--'User Inputs'!$F$43,0),0), IF('User Inputs'!$F$10>=3,IFERROR(--'User Inputs'!$F$45,0),0), IF('User Inputs'!$F$10>=4,IFERROR(--'User Inputs'!$F$47,0),0) ) ) -> 0 | G8: Fuel Oil #2 Consumption (gallons/year) | H8: =IF( OR('User Inputs'!$F$10="",'User Inputs'!$F$10=0), 0, 'User Inputs'!$H$23- SUM( IF('User Inputs'!$F$10>=1,IFERROR(--'User Inputs'!$H$41,0),0), IF('User Inputs'!$F$10>=2,IFERROR(--'User Inputs'!$H$43,0),0), IF('User Inputs'!$F$10>=3,IFERROR(--'User Inputs'!$H$45,0),0), IF('User Inputs'!$F$10>=4,IFERROR(--'User Inputs'!$H$47,0),0) ) ) -> 0 | I8: Coal Consumption (tons/year) | J8: =IF( OR('User Inputs'!$F$10="",'User Inputs'!$F$10=0), 0, 'User Inputs'!$J$23- SUM( IF('User Inputs'!$F$10>=1,IFERROR(--'User Inputs'!$J$41,0),0), IF('User Inputs'!$F$10>=2,IFERROR(--'User Inputs'!$J$43,0),0), IF('User Inputs'!$F$10>=3,IFERROR(--'User Inputs'!$J$45,0),0), IF('User Inputs'!$F$10>=4,IFERROR(--'User Inputs'!$J$47,0),0) ) ) -> 0
A10: PROJECTED COSTS
I12: Total ECM Projects Cost ($) | J12: {=SUM( IF('User Inputs'!$F$10>=1,'User Inputs'!$B$52,0), IF('User Inputs'!$F$10>=2,'User Inputs'!$D$52,0), IF('User Inputs'!$F$10>=3,'User Inputs'!$F$52,0), IF('User Inputs'!$F$10>=4,'User Inputs'!$H$52,0) ) + IF( 'User Inputs'!$B$10='Dev. Notes'!$B$17, 0, _xlfn.SWITCH( 'User Inputs'!$H$10, 'Dev. Notes'!$B$5,IFERROR(--'User Inputs'!$H$58,0), 'Dev. Notes'!$B$6,IFERROR(--'User Inputs'!$H$60,0), 'Dev. Notes'!$B$7, IFERROR(--'User Inputs'!$H$58,0) +IFERROR(--'User Inputs'!$H$60,0), 0 ) )} -> 0
A14: PROJECTED SAVINGS
A16: Electricity (kWh/year) | B16: {=SUM( IF('User Inputs'!$F$10>=1,'User Inputs'!$B$41,0), IF('User Inputs'!$F$10>=2,'User Inputs'!$B$43,0), IF('User Inputs'!$F$10>=3,'User Inputs'!$B$45,0), IF('User Inputs'!$F$10>=4,'User Inputs'!$B$47,0) ) + IF( 'User Inputs'!$B$10='Dev. Notes'!$B$17, 0, _xlfn.SWITCH( 'User Inputs'!$H$10, 'Dev. Notes'!$B$5,IFERROR(--'User Inputs'!$F$58,0), 'Dev. Notes'!$B$6,IFERROR(--'User Inputs'!$F$60,0), 'Dev. Notes'!$B$7, IFERROR(--'User Inputs'!$F$58,0) +IFERROR(--'User Inputs'!$F$60,0), 0 ) )} -> 0 | C16: Natural Gas (therms/year) | D16: =IF( OR('User Inputs'!$F$10="",'User Inputs'!$F$10=0,'User Inputs'!$D$23=0), 0, IFERROR('User Inputs'!$D$23-'Calculated Metrics'!$D$8,0) ) -> 0 | E16: Propane (gallons/year) | F16: =IF( OR('User Inputs'!$F$10="",'User Inputs'!$F$10=0,'User Inputs'!$F$23=0), 0, IFERROR('User Inputs'!$F$23-'Calculated Metrics'!$F$8,0) ) -> 0 | G16: Fuel Oil #2 (gallons/year) | H16: =IF( OR('User Inputs'!$F$10="",'User Inputs'!$F$10=0,'User Inputs'!$H$23=0), 0, IFERROR('User Inputs'!$H$23-'Calculated Metrics'!$H$8,0) ) -> 0 | I16: Coal (tons/year) | J16: =IF( OR('User Inputs'!$F$10="",'User Inputs'!$F$10=0,'User Inputs'!$J$23=0), 0, IFERROR('User Inputs'!$J$23-'Calculated Metrics'!$J$8,0) ) -> 0
A18: ='User Inputs'!$A$72 -> Current Energy Use Intensity [EUI] (kBTU/ft2) | B18: ='User Inputs'!$B$72 -> Enter floor area in cell D10 | C18: ='User Inputs'!$C$72 -> Projected Energy Use Intensity [EUI] (kBTU/ft2) | D18: ='User Inputs'!$D$72 -> Enter floor area in cell D10 | G18: Annual Cost Savings ($/year) | H18: =IFERROR( _xlfn.LET( _xlpm.ecmCount,'User Inputs'!$F$10, _xlpm.solarSelected,'User Inputs'!$H$10, _xlpm.building,'User Inputs'!$B$10, _xlpm.solarApplicable, AND( _xlpm.building<>'Dev. Notes'!$B$17, _xlpm.solarSelected<>'Dev. Notes'!$B$4 ), _xlpm.elecSavings, IFERROR('User Inputs'!$B$23-'Calculated Metrics'!$B$8,0), _xlpm.gasSavings, IF( OR(_xlpm.ecmCount="",_xlpm.ecmCount=0,'User Inputs'!$D$23=0), 0, IFERROR('User Inputs'!$D$23-'Calculated Metrics'!$D$8,0) ), _xlpm.propaneSavings, IF( OR(_xlpm.ecmCount="",_xlpm.ecmCount=0,'User Inputs'!$F$23=0), 0, IFERROR('User Inputs'!$F$23-'Calculated Metrics'!$F$8,0) ), _xlpm.oilSavings, IF( OR(_xlpm.ecmCount="",_xlpm.ecmCount=0,'User Inputs'!$H$23=0), 0, IFERROR('User Inputs'!$H$23-'Calculated Metrics'!$H$8,0) ), _xlpm.coalSavings, IF( OR(_xlpm.ecmCount="",_xlpm.ecmCount=0,'User Inputs'!$J$23=0), 0, IFERROR('User Inputs'!$J$23-'Calculated Metrics'!$J$8,0) ), _xlpm.invalidRates, OR( AND(_xlpm.elecSavings<>0,OR(NOT(ISNUMBER('User Inputs'!$B$28)),'User Inputs'!$B$28<0)), AND(_xlpm.gasSavings<>0,OR(NOT(ISNUMBER('User Inputs'!$D$28)),'User Inputs'!$D$28<0)), AND(_xlpm.propaneSavings<>0,OR(NOT(ISNUMBER('User Inputs'!$F$28)),'User Inputs'!$F$28<0)), AND(_xlpm.oilSavings<>0,OR(NOT(ISNUMBER('User Inputs'!$H$28)),'User Inputs'!$H$28<0)), AND(_xlpm.coalSavings<>0,OR(NOT(ISNUMBER('User Inputs'!$J$28)),'User Inputs'!$J$28<0)) ), IF( AND( OR(_xlpm.ecmCount="",_xlpm.ecmCount=0), NOT(_xlpm.solarApplicable) ), "Add ECMs or Solar in cell F10 or H10", IF( _xlpm.invalidRates, "Check default rates in row 27", _xlpm.elecSavings*'User Inputs'!$B$28+ _xlpm.gasSavings*'User Inputs'!$D$28+ _xlpm.propaneSavings*'User Inputs'!$F$28+ _xlpm.oilSavings*'User Inputs'!$H$28+ _xlpm.coalSavings*'User Inputs'!$J$28 ) ) ), "Check savings inputs in rows 22-27" ) -> 0 | I18: Simple Payback Period (years) | J18: =IF( ISTEXT($H$18), $H$18, IF( $J$12<0, "Project cost is negative. Check rows 55 and 61", IF( $J$12=0, "Fill in Project Costs", IF( $H$18<=0, "N/A - Annual Cost Savings are zero or negative", $J$12/$H$18 ) ) ) ) -> Fill in Project Costs
A20: FUNDING IMPACT
A22: Electrification - Total Project Cost | B22: =IF( IFERROR(VALUE('User Inputs'!$F$10),0)=0, 0, SUM( IF( 'User Inputs'!$F$10>=1, IFERROR( ( INDEX( 'Embedded Values'!$D$22:$D$33, MATCH( 'User Inputs'!$B$34, 'Embedded Values'!$B$22:$B$33, 0 ) )="Electrification" )*'User Inputs'!$B$52, 0 ), 0 ), IF( 'User Inputs'!$F$10>=2, IFERROR( ( INDEX( 'Embedded Values'!$D$22:$D$33, MATCH( 'User Inputs'!$D$34, 'Embedded Values'!$B$22:$B$33, 0 ) )="Electrification" )*'User Inputs'!$D$52, 0 ), 0 ), IF( 'User Inputs'!$F$10>=3, IFERROR( ( INDEX( 'Embedded Values'!$D$22:$D$33, MATCH( 'User Inputs'!$F$34, 'Embedded Values'!$B$22:$B$33, 0 ) )="Electrification" )*'User Inputs'!$F$52, 0 ), 0 ), IF( 'User Inputs'!$F$10>=4, IFERROR( ( INDEX( 'Embedded Values'!$D$22:$D$33, MATCH( 'User Inputs'!$H$34, 'Embedded Values'!$B$22:$B$33, 0 ) )="Electrification" )*'User Inputs'!$H$52, 0 ), 0 ) ) ) -> 0 | C22: Energy Efficiency - Total Project Cost | D22: =IF( IFERROR(VALUE('User Inputs'!$F$10),0)=0, 0, SUM( IF( 'User Inputs'!$F$10>=1, IFERROR( ( INDEX( 'Embedded Values'!$D$22:$D$33, MATCH( 'User Inputs'!$B$34, 'Embedded Values'!$B$22:$B$33, 0 ) )="Energy Efficiency" )*'User Inputs'!$B$52, 0 ), 0 ), IF( 'User Inputs'!$F$10>=2, IFERROR( ( INDEX( 'Embedded Values'!$D$22:$D$33, MATCH( 'User Inputs'!$D$34, 'Embedded Values'!$B$22:$B$33, 0 ) )="Energy Efficiency" )*'User Inputs'!$D$52, 0 ), 0 ), IF( 'User Inputs'!$F$10>=3, IFERROR( ( INDEX( 'Embedded Values'!$D$22:$D$33, MATCH( 'User Inputs'!$F$34, 'Embedded Values'!$B$22:$B$33, 0 ) )="Energy Efficiency" )*'User Inputs'!$F$52, 0 ), 0 ), IF( 'User Inputs'!$F$10>=4, IFERROR( ( INDEX( 'Embedded Values'!$D$22:$D$33, MATCH( 'User Inputs'!$H$34, 'Embedded Values'!$B$22:$B$33, 0 ) )="Energy Efficiency" )*'User Inputs'!$H$52, 0 ), 0 ) ) ) -> 0 | E22: Solar - Total Project Cost | F22: {=IF( OR( 'User Inputs'!$B$10='Dev. Notes'!$B$17, 'User Inputs'!$H$10='Dev. Notes'!$B$4 ), 0, _xlfn.SWITCH( 'User Inputs'!$H$10, 'Dev. Notes'!$B$5,IFERROR(--'User Inputs'!$H$58,0), 'Dev. Notes'!$B$6,IFERROR(--'User Inputs'!$H$60,0), 'Dev. Notes'!$B$7, IFERROR(--'User Inputs'!$H$58,0) +IFERROR(--'User Inputs'!$H$60,0), 0 ) )} -> 0 | G22: {=_xlfn.LET( _xlpm.reduction,IFERROR(--$B$38,0), _xlpm.incentiveRate,IFERROR(--$B$24,0), _xlpm.building,'User Inputs'!$B$10, _xlpm.prefix,"¹ ", _xlpm.sectionRow, _xlfn.SWITCH( _xlpm.building, 'Dev. Notes'!$B$17,ROW('MEA Incentives'!$A$4), 'Dev. Notes'!$B$18,ROW('MEA Incentives'!$A$13), 'Dev. Notes'!$B$19,ROW('MEA Incentives'!$A$22), 'Dev. Notes'!$B$20,ROW('MEA Incentives'!$A$31), 'Dev. Notes'!$B$21,ROW('MEA Incentives'!$A$31), 0 ), _xlpm.incentiveColumn, COLUMN('MEA Incentives'!$B$4), _xlpm.minimumRow, IF( _xlpm.sectionRow=0, 0, _xlpm.sectionRow+4 ), _xlpm.maximumRow, IF( _xlpm.sectionRow=0, 0, _xlpm.sectionRow+5 ), _xlpm.minimumGrant, IF( _xlpm.minimumRow=0, 0, IFERROR( INDEX( 'MEA Incentives'!$A:$D, _xlpm.minimumRow, _xlpm.incentiveColumn ), 0 ) ), _xlpm.maximumGrant, IF( _xlpm.maximumRow=0, 0, IFERROR( INDEX( 'MEA Incentives'!$A:$D, _xlpm.maximumRow, _xlpm.incentiveColumn ), 0 ) ), _xlpm.calculatedGrant, _xlpm.reduction*_xlpm.incentiveRate, _xlpm.evaluatedGrant, MIN( _xlpm.calculatedGrant, _xlpm.maximumGrant ), _xlpm.limitedByMaximum, _xlpm.maximumGrant<_xlpm.calculatedGrant, IF( AND( _xlpm.reduction>0, _xlpm.reduction<200 ), _xlpm.prefix& _xlfn._LONGTEXT("The calculated Electrification incentive is $0 because the projected lifetime greenhouse gas emissions reduction is less than the minimum program threshold of 200 MTCO₂e. Projects must achieve at least 200 MTCO₂e in lifetime emissions reductions to qualif","y for an Electrification incentive."), IF( OR( _xlpm.reduction<=0, _xlpm.incentiveRate<=0, _xlpm.sectionRow=0, _xlpm.minimumGrant<=0 ), "", IF( _xlpm.evaluatedGrant<_xlpm.minimumGrant, _xlpm.prefix& "The calculated Electrification incentive of $"& TEXT(_xlpm.calculatedGrant,"#,##0")& " is below the Minimum Grant Amount of $"& TEXT(_xlpm.minimumGrant,"#,##0")& ". The applicant's proposed scope of work does not qualify for the minimum grant amount and is ineligible for the program. The calculated amount is shown for transparency and evaluation purposes.", IF( _xlpm.limitedByMaximum, _xlpm.prefix& "The calculated Electrification incentive of $"& TEXT(_xlpm.calculatedGrant,"#,##0")& " exceeded the Maximum Grant Amount of $"& TEXT(_xlpm.maximumGrant,"#,##0")& " and has been capped at $"& TEXT(_xlpm.evaluatedGrant,"#,##0")& _xlfn._LONGTEXT(". The final evaluated incentive meets the minimum grant requirement and is within the applicable measure-level funding limit. This incentive is still subject to the project-level Total Project Cost% Cap applied at the Total MEA Grant Request calculation b","elow."), _xlpm.prefix& "The calculated Electrification incentive of $"& TEXT(_xlpm.evaluatedGrant,"#,##0")& " meets the minimum grant requirement and is within the applicable measure-level funding limit. This incentive is still subject to the project-level Total Project Cost% Cap applied at the Total MEA Grant Request calculation below." ) ) ) ) )}
A24: Electrification - $/Lifetime MTCO2e Reduced | B24: {=_xlfn.LET( _xlpm.reduction,IFERROR(--$B$38,0), _xlpm.building,'User Inputs'!$B$10, _xlpm.sectionRow, _xlfn.SWITCH( _xlpm.building, 'Dev. Notes'!$B$17,ROW('MEA Incentives'!$A$4), 'Dev. Notes'!$B$18,ROW('MEA Incentives'!$A$13), 'Dev. Notes'!$B$19,ROW('MEA Incentives'!$A$22), 'Dev. Notes'!$B$20,ROW('MEA Incentives'!$A$31), 'Dev. Notes'!$B$21,ROW('MEA Incentives'!$A$31), 0 ), _xlpm.tierRow, IF( OR( _xlpm.sectionRow=0, _xlpm.reduction<200 ), 0, IF( _xlpm.reduction<=2499, _xlpm.sectionRow+1, IF( _xlpm.reduction<=4999, _xlpm.sectionRow+2, _xlpm.sectionRow+3 ) ) ), _xlpm.rateColumn, COLUMN('MEA Incentives'!$B$4), _xlpm.bonusColumn, COLUMN('MEA Incentives'!$D$4), _xlpm.baseRate, IF( _xlpm.tierRow=0, 0, IFERROR( INDEX( 'MEA Incentives'!$A:$D, _xlpm.tierRow, _xlpm.rateColumn ), 0 ) ), _xlpm.bonusEligible, IF( OR( _xlpm.building='Dev. Notes'!$B$17, _xlpm.building='Dev. Notes'!$B$18 ), 'User Inputs'!$B$12="Yes", _xlpm.building='Dev. Notes'!$B$21 ), _xlpm.bonusRate, IF( OR( _xlpm.tierRow=0, NOT(_xlpm.bonusEligible) ), 0, IFERROR( INDEX( 'MEA Incentives'!$A:$D, _xlpm.tierRow, _xlpm.bonusColumn ), 0 ) ), _xlpm.baseRate+_xlpm.bonusRate )} -> 0 | C24: Energy Efficiency - $/Lifetime MTCO2e Reduced | D24: {=_xlfn.LET( _xlpm.reduction,IFERROR(--$D$38,0), _xlpm.building,'User Inputs'!$B$10, _xlpm.sectionRow, _xlfn.SWITCH( _xlpm.building, 'Dev. Notes'!$B$17,ROW('MEA Incentives'!$A$4), 'Dev. Notes'!$B$18,ROW('MEA Incentives'!$A$13), 'Dev. Notes'!$B$19,ROW('MEA Incentives'!$A$22), 'Dev. Notes'!$B$20,ROW('MEA Incentives'!$A$31), 'Dev. Notes'!$B$21,ROW('MEA Incentives'!$A$31), 0 ), _xlpm.tierRow, IF( OR( _xlpm.sectionRow=0, _xlpm.reduction<200 ), 0, IF( _xlpm.reduction<=2499, _xlpm.sectionRow+1, IF( _xlpm.reduction<=4999, _xlpm.sectionRow+2, _xlpm.sectionRow+3 ) ) ), _xlpm.rateColumn, COLUMN('MEA Incentives'!$C$4), _xlpm.bonusColumn, COLUMN('MEA Incentives'!$D$4), _xlpm.baseRate, IF( _xlpm.tierRow=0, 0, IFERROR( INDEX( 'MEA Incentives'!$A:$D, _xlpm.tierRow, _xlpm.rateColumn ), 0 ) ), _xlpm.bonusEligible, IF( OR( _xlpm.building='Dev. Notes'!$B$17, _xlpm.building='Dev. Notes'!$B$18 ), 'User Inputs'!$B$12="Yes", _xlpm.building='Dev. Notes'!$B$21 ), _xlpm.bonusRate, IF( OR( _xlpm.tierRow=0, NOT(_xlpm.bonusEligible) ), 0, IFERROR( INDEX( 'MEA Incentives'!$A:$D, _xlpm.tierRow, _xlpm.bonusColumn ), 0 ) ), _xlpm.baseRate+_xlpm.bonusRate )} -> 0 | E24: Solar - Applicable Incentive Rate(s) | F24: {=_xlfn.LET( _xlpm.solarType,'User Inputs'!$H$10, _xlpm.building,'User Inputs'!$B$10, _xlpm.groundRate,IFERROR(--'Dev. Notes'!$C$41,0), _xlpm.canopyRate,IFERROR(--'Dev. Notes'!$C$42,0), IF( OR( _xlpm.building='Dev. Notes'!$B$17, _xlpm.solarType='Dev. Notes'!$B$4 ), "", _xlfn.SWITCH( _xlpm.solarType, 'Dev. Notes'!$B$5, _xlpm.groundRate, 'Dev. Notes'!$B$6, _xlpm.canopyRate, 'Dev. Notes'!$B$7, "Ground: $"& TEXT(_xlpm.groundRate,"#,##0")& "/kW"& CHAR(10)& "Canopy: $"& TEXT(_xlpm.canopyRate,"#,##0")& "/kW", "" ) ) )} | G24: {=_xlfn.LET( _xlpm.reduction,IFERROR(--$D$38,0), _xlpm.rate,IFERROR(--$D$24,0), _xlpm.building,'User Inputs'!$B$10, _xlpm.onlyMI,'Dev. Notes'!$B$25, _xlpm.projectCost,IFERROR(--$D$22,0), _xlpm.prefix,"² ", _xlpm.srow, _xlfn.SWITCH( _xlpm.building, 'Dev. Notes'!$B$17,ROW('MEA Incentives'!$A$4), 'Dev. Notes'!$B$18,ROW('MEA Incentives'!$A$13), 'Dev. Notes'!$B$19,ROW('MEA Incentives'!$A$22), 'Dev. Notes'!$B$20,ROW('MEA Incentives'!$A$31), 'Dev. Notes'!$B$21,ROW('MEA Incentives'!$A$31), 0 ), _xlpm.col, COLUMN('MEA Incentives'!$C$4), _xlpm.minrow, IF( _xlpm.srow=0, 0, _xlpm.srow+4 ), _xlpm.maxrow, IF( _xlpm.srow=0, 0, _xlpm.srow+5 ), _xlpm.standardMin, IF( _xlpm.minrow=0, 0, IFERROR( INDEX( 'MEA Incentives'!$A:$D, _xlpm.minrow, _xlpm.col ), 0 ) ), _xlpm.standardMax, IF( _xlpm.maxrow=0, 0, IFERROR( INDEX( 'MEA Incentives'!$A:$D, _xlpm.maxrow, _xlpm.col ), 0 ) ), _xlpm.miMin, IFERROR( --'MEA Incentives'!$B$65, 0 ), _xlpm.miMax, IFERROR( --'MEA Incentives'!$B$66, 0 ), _xlpm.miPctCap, IFERROR( --'MEA Incentives'!$B$67, 0 ), _xlpm.miMinProjectCost, IFERROR( --'MEA Incentives'!$B$68, 0 ), _xlpm.minGrant, IF( _xlpm.onlyMI, _xlpm.miMin, _xlpm.standardMin ), _xlpm.maxGrant, IF( _xlpm.onlyMI, MIN( _xlpm.miMax, _xlpm.projectCost*_xlpm.miPctCap ), _xlpm.standardMax ), _xlpm.calculated, _xlpm.reduction*_xlpm.rate, _xlpm.evaluated, MIN( _xlpm.calculated, _xlpm.maxGrant ), _xlpm.limitedByMax, _xlpm.maxGrant<_xlpm.calculated, IF( AND( _xlpm.reduction>0, _xlpm.reduction<200 ), _xlpm.prefix& _xlfn._LONGTEXT("The calculated Energy Efficiency incentive is $0 because the projected lifetime greenhouse gas emissions reduction is less than the minimum program threshold of 200 MTCO₂e. Projects must achieve at least 200 MTCO₂e in lifetime emissions reductions to qual","ify for an Energy Efficiency incentive."), IF( AND( _xlpm.onlyMI, _xlpm.projectCost<_xlpm.miMinProjectCost ), _xlpm.prefix& "The Mechanical Insulation project is ineligible because the total project cost of $"& TEXT(_xlpm.projectCost,"#,##0")& " is below the Minimum Project Cost of $"& TEXT(_xlpm.miMinProjectCost,"#,##0")& ".", IF( OR( _xlpm.reduction<=0, _xlpm.rate<=0, _xlpm.srow=0, _xlpm.minGrant<=0 ), "", IF( _xlpm.evaluated<_xlpm.minGrant, _xlpm.prefix& "The calculated Energy Efficiency incentive of $"& TEXT(_xlpm.calculated,"#,##0")& " is below the Minimum Grant Amount of $"& TEXT(_xlpm.minGrant,"#,##0")& ". The proposed scope does not qualify for the minimum grant amount and is ineligible. The calculated amount is shown for evaluation purposes.", IF( _xlpm.onlyMI, IF( _xlpm.limitedByMax, _xlpm.prefix& "The calculated Energy Efficiency incentive of $"& TEXT(_xlpm.calculated,"#,##0")& " exceeds the applicable Mechanical Insulation funding limit and has been capped at $"& TEXT(_xlpm.evaluated,"#,##0")& ", which is the lesser of "& TEXT(_xlpm.miPctCap,"0%")& " of total qualified project costs or the $"& TEXT(_xlpm.miMax,"#,##0")& " Maximum Grant Amount. This incentive is still subject to the project-level Total Project Cost% Cap applied at the Total MEA Grant Request calculation below.", _xlpm.prefix& "The calculated Mechanical Insulation incentive of $"& TEXT(_xlpm.evaluated,"#,##0")& " meets the minimum grant requirement and is within the applicable measure-level funding limit. This incentive is still subject to the project-level Total Project Cost% Cap applied at the Total MEA Grant Request calculation below." ), IF( _xlpm.limitedByMax, _xlpm.prefix& "The calculated Energy Efficiency incentive of $"& TEXT(_xlpm.calculated,"#,##0")& " exceeded the Maximum Grant Amount of $"& TEXT(_xlpm.maxGrant,"#,##0")& " and has been capped at $"& TEXT(_xlpm.evaluated,"#,##0")& _xlfn._LONGTEXT(". The final evaluated incentive meets the minimum grant requirement and is within the applicable measure-level funding limit. This incentive is still subject to the project-level Total Project Cost% Cap applied at the Total MEA Grant Request calculation b","elow."), _xlpm.prefix& "The calculated Energy Efficiency incentive of $"& TEXT(_xlpm.evaluated,"#,##0")& " meets the minimum grant requirement and is within the applicable measure-level funding limit. This incentive is still subject to the project-level Total Project Cost% Cap applied at the Total MEA Grant Request calculation below." ) ) ) ) ) ) )}
A26: Calculated Incentives for Electrification1 | B26: {=_xlfn.LET( _xlpm.reduction,IFERROR(--$B$38,0), _xlpm.incentiveRate,IFERROR(--$B$24,0), _xlpm.building,'User Inputs'!$B$10, _xlpm.sectionRow, _xlfn.SWITCH( _xlpm.building, 'Dev. Notes'!$B$17,ROW('MEA Incentives'!$A$4), 'Dev. Notes'!$B$18,ROW('MEA Incentives'!$A$13), 'Dev. Notes'!$B$19,ROW('MEA Incentives'!$A$22), 'Dev. Notes'!$B$20,ROW('MEA Incentives'!$A$31), 'Dev. Notes'!$B$21,ROW('MEA Incentives'!$A$31), 0 ), _xlpm.incentiveColumn, COLUMN('MEA Incentives'!$B$4), _xlpm.minimumRow, IF( _xlpm.sectionRow=0, 0, _xlpm.sectionRow+4 ), _xlpm.maximumRow, IF( _xlpm.sectionRow=0, 0, _xlpm.sectionRow+5 ), _xlpm.minimumGrant, IF( _xlpm.minimumRow=0, 0, IFERROR( INDEX( 'MEA Incentives'!$A:$D, _xlpm.minimumRow, _xlpm.incentiveColumn ), 0 ) ), _xlpm.maximumGrant, IF( _xlpm.maximumRow=0, 0, IFERROR( INDEX( 'MEA Incentives'!$A:$D, _xlpm.maximumRow, _xlpm.incentiveColumn ), 0 ) ), _xlpm.calculatedGrant, _xlpm.reduction*_xlpm.incentiveRate, _xlpm.cappedGrant, MIN( _xlpm.calculatedGrant, _xlpm.maximumGrant ), IF( OR( _xlpm.reduction<=0, _xlpm.incentiveRate<=0, _xlpm.sectionRow=0, _xlpm.minimumGrant<=0, _xlpm.cappedGrant<_xlpm.minimumGrant ), 0, _xlpm.cappedGrant ) )} -> 0 | C26: Calculated Incentives for Energy Efficiency2 | D26: {=_xlfn.LET( _xlpm.reduction,IFERROR(--$D$38,0), _xlpm.rate,IFERROR(--$D$24,0), _xlpm.building,'User Inputs'!$B$10, _xlpm.onlyMI,'Dev. Notes'!$B$25, _xlpm.projectCost,IFERROR(--$D$22,0), _xlpm.srow, _xlfn.SWITCH( _xlpm.building, 'Dev. Notes'!$B$17,ROW('MEA Incentives'!$A$4), 'Dev. Notes'!$B$18,ROW('MEA Incentives'!$A$13), 'Dev. Notes'!$B$19,ROW('MEA Incentives'!$A$22), 'Dev. Notes'!$B$20,ROW('MEA Incentives'!$A$31), 'Dev. Notes'!$B$21,ROW('MEA Incentives'!$A$31), 0 ), _xlpm.col, COLUMN('MEA Incentives'!$C$4), _xlpm.minrow, IF( _xlpm.srow=0, 0, _xlpm.srow+4 ), _xlpm.maxrow, IF( _xlpm.srow=0, 0, _xlpm.srow+5 ), _xlpm.standardMin, IF( _xlpm.minrow=0, 0, IFERROR( INDEX( 'MEA Incentives'!$A:$D, _xlpm.minrow, _xlpm.col ), 0 ) ), _xlpm.standardMax, IF( _xlpm.maxrow=0, 0, IFERROR( INDEX( 'MEA Incentives'!$A:$D, _xlpm.maxrow, _xlpm.col ), 0 ) ), _xlpm.miMin, IFERROR( --'MEA Incentives'!$B$65, 0 ), _xlpm.miMax, IFERROR( --'MEA Incentives'!$B$66, 0 ), _xlpm.miPctCap, IFERROR( --'MEA Incentives'!$B$67, 0 ), _xlpm.miMinProjectCost, IFERROR( --'MEA Incentives'!$B$68, 0 ), _xlpm.calculated, _xlpm.reduction*_xlpm.rate, _xlpm.minGrant, IF( _xlpm.onlyMI, _xlpm.miMin, _xlpm.standardMin ), _xlpm.maxGrant, IF( _xlpm.onlyMI, MIN( _xlpm.miMax, _xlpm.projectCost*_xlpm.miPctCap ), _xlpm.standardMax ), _xlpm.finalGrant, MIN( _xlpm.calculated, _xlpm.maxGrant ), IF( OR( _xlpm.reduction<=0, _xlpm.rate<=0, _xlpm.srow=0, _xlpm.minGrant<=0, AND( _xlpm.onlyMI, _xlpm.projectCost<_xlpm.miMinProjectCost ), _xlpm.finalGrant<_xlpm.minGrant ), 0, _xlpm.finalGrant ) )} -> 0 | E26: Calculated Incentives for Solar3 | F26: ='Dev. Notes'!$C$48+'Dev. Notes'!$C$50 -> 0 | G26: {=_xlfn.LET( _xlpm.solarType,'User Inputs'!$H$10, _xlpm.prefix,"³ ", _xlpm.groundRaw,'Dev. Notes'!$C$47, _xlpm.groundEligible,'Dev. Notes'!$C$48, _xlpm.groundMin,'Dev. Notes'!$C$43, _xlpm.groundMax,'Dev. Notes'!$C$44, _xlpm.canopyRaw,'Dev. Notes'!$C$49, _xlpm.canopyEligible,'Dev. Notes'!$C$50, _xlpm.canopyMin,'Dev. Notes'!$C$45, _xlpm.canopyMax,'Dev. Notes'!$C$46, _xlpm.projectCapNote, " This incentive is still subject to the project-level Total Project Cost% Cap applied at the Total MEA Grant Request calculation below.", _xlpm.groundMessage, IF( _xlpm.groundRaw<=0, "", IF( _xlpm.groundEligible=0, "The calculated Ground Mount/Rooftop Solar incentive of $"& TEXT(_xlpm.groundRaw,"#,##0")& " is below the Minimum Grant Amount of $"& TEXT(_xlpm.groundMin,"#,##0")& ". The proposed Ground Mount/Rooftop scope does not qualify for the minimum grant amount and is ineligible.", IF( _xlpm.groundRaw>_xlpm.groundMax, "The calculated Ground Mount/Rooftop Solar incentive of $"& TEXT(_xlpm.groundRaw,"#,##0")& " exceeded the Maximum Grant Amount of $"& TEXT(_xlpm.groundMax,"#,##0")& " and has been capped at $"& TEXT(_xlpm.groundEligible,"#,##0")& ".", "The calculated Ground Mount/Rooftop Solar incentive of $"& TEXT(_xlpm.groundEligible,"#,##0")& " meets the minimum grant requirement and is within the applicable measure-level funding limit." ) ) ), _xlpm.canopyMessage, IF( _xlpm.canopyRaw<=0, "", IF( _xlpm.canopyEligible=0, "The calculated Solar Canopy incentive of $"& TEXT(_xlpm.canopyRaw,"#,##0")& " is below the Minimum Grant Amount of $"& TEXT(_xlpm.canopyMin,"#,##0")& ". The proposed Solar Canopy scope does not qualify for the minimum grant amount and is ineligible.", IF( _xlpm.canopyRaw>_xlpm.canopyMax, "The calculated Solar Canopy incentive of $"& TEXT(_xlpm.canopyRaw,"#,##0")& " exceeded the Maximum Grant Amount of $"& TEXT(_xlpm.canopyMax,"#,##0")& " and has been capped at $"& TEXT(_xlpm.canopyEligible,"#,##0")& ".", "The calculated Solar Canopy incentive of $"& TEXT(_xlpm.canopyEligible,"#,##0")& " meets the minimum grant requirement and is within the applicable measure-level funding limit." ) ) ), IF( OR( 'User Inputs'!$B$10='Dev. Notes'!$B$17, _xlpm.solarType='Dev. Notes'!$B$4 ), "", _xlfn.SWITCH( _xlpm.solarType, 'Dev. Notes'!$B$5, _xlpm.prefix& _xlpm.groundMessage& _xlpm.projectCapNote, 'Dev. Notes'!$B$6, _xlpm.prefix& _xlpm.canopyMessage& _xlpm.projectCapNote, 'Dev. Notes'!$B$7, _xlpm.prefix& _xlpm.groundMessage& CHAR(10)& _xlpm.canopyMessage& CHAR(10)& "The total calculated Solar incentive is $"& TEXT(_xlpm.groundEligible+_xlpm.canopyEligible,"#,##0")& "."& _xlpm.projectCapNote, "" ) ) )}
E27: GROUNDMOUNT OR ROOFTOP INSTALLATION
E28: ='User Inputs'!$I$65 -> Solar PV Requested Grant Amount per kW | F28: ='User Inputs'!$J$65 | G28: ='User Inputs'!$A$65
E29: SOLAR CANOPY INSTALLATION
E30: ='User Inputs'!$I$67 -> Solar PV Requested Grant Amount per kW | F30: ='User Inputs'!$J$67 | G30: ='User Inputs'!$A$67
E32: Total MEA Grant Request | F32: {=_xlfn.LET( _xlpm.totalCalculatedGrant,SUM($B$26,$D$26,$F$26), _xlpm.totalProjectCost,IFERROR(--$J$12,0), _xlpm.building,'User Inputs'!$B$10, _xlpm.sectionRow, _xlfn.SWITCH( _xlpm.building, 'Dev. Notes'!$B$17,ROW('MEA Incentives'!$A$4), 'Dev. Notes'!$B$18,ROW('MEA Incentives'!$A$13), 'Dev. Notes'!$B$19,ROW('MEA Incentives'!$A$22), 'Dev. Notes'!$B$20,ROW('MEA Incentives'!$A$31), 'Dev. Notes'!$B$21,ROW('MEA Incentives'!$A$31), 0 ), _xlpm.incentiveColumn, COLUMN('MEA Incentives'!$B$4), _xlpm.percentageCapRow, IF( _xlpm.sectionRow=0, 0, _xlpm.sectionRow+6 ), _xlpm.projectCostPercentage, IF( _xlpm.percentageCapRow=0, 0, IFERROR( INDEX( 'MEA Incentives'!$A:$D, _xlpm.percentageCapRow, _xlpm.incentiveColumn ), 0 ) ), _xlpm.projectCostCap, _xlpm.totalProjectCost*_xlpm.projectCostPercentage, IF( _xlpm.building="", "Select building type in cell B10 of user inputs", IF( _xlpm.totalProjectCost<0, "Project costs in rows 55-61 of user inputs must be > 0", IF( _xlpm.totalProjectCost=0, "Enter project costs in rows 55-61 of user inputs", IF( _xlpm.totalCalculatedGrant<=0, "Ineligible. See cells G22-26 of calculated metrics for why", IF( OR( _xlpm.sectionRow=0, _xlpm.projectCostPercentage<=0 ), "MEA Incentives tab error, ensure grant cap % > 0", MIN( _xlpm.totalCalculatedGrant, _xlpm.projectCostCap ) ) ) ) ) ) )} -> Select building type in cell B10 of user inputs | G32: =_xlfn.LET( _xlpm.uncappedTotal,SUM($B$26,$D$26,$F$26), _xlpm.cappedTotal,IFERROR(--$F$32,0), IF( _xlpm.uncappedTotal<=0, "", IF( _xlpm.uncappedTotal>_xlpm.cappedTotal, "The combined calculated incentives total $"& TEXT(_xlpm.uncappedTotal,"#,##0")& ". This amount exceeds the applicable Total Project Cost% Cap and has been capped at $"& TEXT(_xlpm.cappedTotal,"#,##0")& ". The resulting value represents the requested amount for which the project may qualify, not the final award amount.", "The Total MEA Grant Request of $"& TEXT(_xlpm.cappedTotal,"#,##0")& " is within the applicable Total Project Cost% Cap. This value represents the requested amount for which the project may qualify, not the final award amount." ) ) )
A34: CARBON IMPACT
A36: Annual GHG Emissions Reduction from Electrification Projects (MTCO2e) | B36: =IF( OR('User Inputs'!$F$10="",'User Inputs'!$F$10=0), 0, SUM( IF( 'User Inputs'!$F$10>=1, IFERROR( --( INDEX( 'Embedded Values'!$D$22:$D$33, MATCH( 'User Inputs'!$B$34, 'Embedded Values'!$B$22:$B$33, 0 ) )="Electrification" )* ( IF( N('User Inputs'!$B$23)>0, 'User Inputs'!$B$41*'Embedded Values'!$D$5, 0 )+ IF( N('User Inputs'!$D$23)>0, 'User Inputs'!$D$41*'Embedded Values'!$D$6, 0 )+ IF( N('User Inputs'!$F$23)>0, 'User Inputs'!$F$41*'Embedded Values'!$D$7, 0 )+ IF( N('User Inputs'!$H$23)>0, 'User Inputs'!$H$41*'Embedded Values'!$D$8, 0 )+ IF( N('User Inputs'!$J$23)>0, 'User Inputs'!$J$41*'Embedded Values'!$D$9, 0 ) ), 0 ), 0 ), IF( 'User Inputs'!$F$10>=2, IFERROR( --( INDEX( 'Embedded Values'!$D$22:$D$33, MATCH( 'User Inputs'!$D$34, 'Embedded Values'!$B$22:$B$33, 0 ) )="Electrification" )* ( IF( N('User Inputs'!$B$23)>0, 'User Inputs'!$B$43*'Embedded Values'!$D$5, 0 )+ IF( N('User Inputs'!$D$23)>0, 'User Inputs'!$D$43*'Embedded Values'!$D$6, 0 )+ IF( N('User Inputs'!$F$23)>0, 'User Inputs'!$F$43*'Embedded Values'!$D$7, 0 )+ IF( N('User Inputs'!$H$23)>0, 'User Inputs'!$H$43*'Embedded Values'!$D$8, 0 )+ IF( N('User Inputs'!$J$23)>0, 'User Inputs'!$J$43*'Embedded Values'!$D$9, 0 ) ), 0 ), 0 ), IF( 'User Inputs'!$F$10>=3, IFERROR( --( INDEX( 'Embedded Values'!$D$22:$D$33, MATCH( 'User Inputs'!$F$34, 'Embedded Values'!$B$22:$B$33, 0 ) )="Electrification" )* ( IF( N('User Inputs'!$B$23)>0, 'User Inputs'!$B$45*'Embedded Values'!$D$5, 0 )+ IF( N('User Inputs'!$D$23)>0, 'User Inputs'!$D$45*'Embedded Values'!$D$6, 0 )+ IF( N('User Inputs'!$F$23)>0, 'User Inputs'!$F$45*'Embedded Values'!$D$7, 0 )+ IF( N('User Inputs'!$H$23)>0, 'User Inputs'!$H$45*'Embedded Values'!$D$8, 0 )+ IF( N('User Inputs'!$J$23)>0, 'User Inputs'!$J$45*'Embedded Values'!$D$9, 0 ) ), 0 ), 0 ), IF( 'User Inputs'!$F$10>=4, IFERROR( --( INDEX( 'Embedded Values'!$D$22:$D$33, MATCH( 'User Inputs'!$H$34, 'Embedded Values'!$B$22:$B$33, 0 ) )="Electrification" )* ( IF( N('User Inputs'!$B$23)>0, 'User Inputs'!$B$47*'Embedded Values'!$D$5, 0 )+ IF( N('User Inputs'!$D$23)>0, 'User Inputs'!$D$47*'Embedded Values'!$D$6, 0 )+ IF( N('User Inputs'!$F$23)>0, 'User Inputs'!$F$47*'Embedded Values'!$D$7, 0 )+ IF( N('User Inputs'!$H$23)>0, 'User Inputs'!$H$47*'Embedded Values'!$D$8, 0 )+ IF( N('User Inputs'!$J$23)>0, 'User Inputs'!$J$47*'Embedded Values'!$D$9, 0 ) ), 0 ), 0 ) ) ) -> 0 | C36: Annual GHG Emissions Reduction from Energy Efficiency Projects (MTCO2e) | D36: =IF( OR('User Inputs'!$F$10="",'User Inputs'!$F$10=0), 0, SUM( IF( 'User Inputs'!$F$10>=1, IFERROR( ( INDEX( 'Embedded Values'!$D$22:$D$33, MATCH( 'User Inputs'!$B$34, 'Embedded Values'!$B$22:$B$33, 0 ) )="Energy Efficiency" )* ( IF( N('User Inputs'!$B$23)>0, 'User Inputs'!$B$41*'Embedded Values'!$D$5, 0 )+ IF( N('User Inputs'!$D$23)>0, 'User Inputs'!$D$41*'Embedded Values'!$D$6, 0 )+ IF( N('User Inputs'!$F$23)>0, 'User Inputs'!$F$41*'Embedded Values'!$D$7, 0 )+ IF( N('User Inputs'!$H$23)>0, 'User Inputs'!$H$41*'Embedded Values'!$D$8, 0 )+ IF( N('User Inputs'!$J$23)>0, 'User Inputs'!$J$41*'Embedded Values'!$D$9, 0 ) ), 0 ), 0 ), IF( 'User Inputs'!$F$10>=2, IFERROR( ( INDEX( 'Embedded Values'!$D$22:$D$33, MATCH( 'User Inputs'!$D$34, 'Embedded Values'!$B$22:$B$33, 0 ) )="Energy Efficiency" )* ( IF( N('User Inputs'!$B$23)>0, 'User Inputs'!$B$43*'Embedded Values'!$D$5, 0 )+ IF( N('User Inputs'!$D$23)>0, 'User Inputs'!$D$43*'Embedded Values'!$D$6, 0 )+ IF( N('User Inputs'!$F$23)>0, 'User Inputs'!$F$43*'Embedded Values'!$D$7, 0 )+ IF( N('User Inputs'!$H$23)>0, 'User Inputs'!$H$43*'Embedded Values'!$D$8, 0 )+ IF( N('User Inputs'!$J$23)>0, 'User Inputs'!$J$43*'Embedded Values'!$D$9, 0 ) ), 0 ), 0 ), IF( 'User Inputs'!$F$10>=3, IFERROR( ( INDEX( 'Embedded Values'!$D$22:$D$33, MATCH( 'User Inputs'!$F$34, 'Embedded Values'!$B$22:$B$33, 0 ) )="Energy Efficiency" )* ( IF( N('User Inputs'!$B$23)>0, 'User Inputs'!$B$45*'Embedded Values'!$D$5, 0 )+ IF( N('User Inputs'!$D$23)>0, 'User Inputs'!$D$45*'Embedded Values'!$D$6, 0 )+ IF( N('User Inputs'!$F$23)>0, 'User Inputs'!$F$45*'Embedded Values'!$D$7, 0 )+ IF( N('User Inputs'!$H$23)>0, 'User Inputs'!$H$45*'Embedded Values'!$D$8, 0 )+ IF( N('User Inputs'!$J$23)>0, 'User Inputs'!$J$45*'Embedded Values'!$D$9, 0 ) ), 0 ), 0 ), IF( 'User Inputs'!$F$10>=4, IFERROR( ( INDEX( 'Embedded Values'!$D$22:$D$33, MATCH( 'User Inputs'!$H$34, 'Embedded Values'!$B$22:$B$33, 0 ) )="Energy Efficiency" )* ( IF( N('User Inputs'!$B$23)>0, 'User Inputs'!$B$47*'Embedded Values'!$D$5, 0 )+ IF( N('User Inputs'!$D$23)>0, 'User Inputs'!$D$47*'Embedded Values'!$D$6, 0 )+ IF( N('User Inputs'!$F$23)>0, 'User Inputs'!$F$47*'Embedded Values'!$D$7, 0 )+ IF( N('User Inputs'!$H$23)>0, 'User Inputs'!$H$47*'Embedded Values'!$D$8, 0 )+ IF( N('User Inputs'!$J$23)>0, 'User Inputs'!$J$47*'Embedded Values'!$D$9, 0 ) ), 0 ), 0 ) ) ) -> 0 | E36: Annual GHG Emissions Reduction from Solar Projects (MTCO2e) | F36: {=IF( OR( 'User Inputs'!$B$10='Dev. Notes'!$B$17, 'User Inputs'!$H$10='Dev. Notes'!$B$4 ), 0, _xlfn.SWITCH( 'User Inputs'!$H$10, 'Dev. Notes'!$B$5, IFERROR(--'User Inputs'!$F$58,0)*'Embedded Values'!$D$5, 'Dev. Notes'!$B$6, IFERROR(--'User Inputs'!$F$60,0)*'Embedded Values'!$D$5, 'Dev. Notes'!$B$7, ( IFERROR(--'User Inputs'!$F$58,0) +IFERROR(--'User Inputs'!$F$60,0) )*'Embedded Values'!$D$5, 0 ) )} -> 0 | I36: Total Annual GHG Emissions Reduction (MTCO2e) | J36: =SUM($B$36,$D$36,$F$36) -> 0
A38: Lifetime GHG Emissions Reduction from Electrification Projects (MTCO2e) | B38: =IF( OR('User Inputs'!$F$10="",'User Inputs'!$F$10=0), 0, SUM( IF( 'User Inputs'!$F$10>=1, IFERROR( (INDEX( 'Embedded Values'!$D$22:$D$33, MATCH( 'User Inputs'!$B$34, 'Embedded Values'!$B$22:$B$33, 0 ) )="Electrification") * ( IF( N('User Inputs'!$B$23)>0, 'User Inputs'!$B$41*'Embedded Values'!$D$5, 0 ) + IF( N('User Inputs'!$D$23)>0, 'User Inputs'!$D$41*'Embedded Values'!$D$6, 0 ) + IF( N('User Inputs'!$F$23)>0, 'User Inputs'!$F$41*'Embedded Values'!$D$7, 0 ) + IF( N('User Inputs'!$H$23)>0, 'User Inputs'!$H$41*'Embedded Values'!$D$8, 0 ) + IF( N('User Inputs'!$J$23)>0, 'User Inputs'!$J$41*'Embedded Values'!$D$9, 0 ) ) * INDEX( 'Embedded Values'!$C$22:$C$33, MATCH( 'User Inputs'!$B$34, 'Embedded Values'!$B$22:$B$33, 0 ) ), 0 ), 0 ), IF( 'User Inputs'!$F$10>=2, IFERROR( (INDEX( 'Embedded Values'!$D$22:$D$33, MATCH( 'User Inputs'!$D$34, 'Embedded Values'!$B$22:$B$33, 0 ) )="Electrification") * ( IF( N('User Inputs'!$B$23)>0, 'User Inputs'!$B$43*'Embedded Values'!$D$5, 0 ) + IF( N('User Inputs'!$D$23)>0, 'User Inputs'!$D$43*'Embedded Values'!$D$6, 0 ) + IF( N('User Inputs'!$F$23)>0, 'User Inputs'!$F$43*'Embedded Values'!$D$7, 0 ) + IF( N('User Inputs'!$H$23)>0, 'User Inputs'!$H$43*'Embedded Values'!$D$8, 0 ) + IF( N('User Inputs'!$J$23)>0, 'User Inputs'!$J$43*'Embedded Values'!$D$9, 0 ) ) * INDEX( 'Embedded Values'!$C$22:$C$33, MATCH( 'User Inputs'!$D$34, 'Embedded Values'!$B$22:$B$33, 0 ) ), 0 ), 0 ), IF( 'User Inputs'!$F$10>=3, IFERROR( (INDEX( 'Embedded Values'!$D$22:$D$33, MATCH( 'User Inputs'!$F$34, 'Embedded Values'!$B$22:$B$33, 0 ) )="Electrification") * ( IF( N('User Inputs'!$B$23)>0, 'User Inputs'!$B$45*'Embedded Values'!$D$5, 0 ) + IF( N('User Inputs'!$D$23)>0, 'User Inputs'!$D$45*'Embedded Values'!$D$6, 0 ) + IF( N('User Inputs'!$F$23)>0, 'User Inputs'!$F$45*'Embedded Values'!$D$7, 0 ) + IF( N('User Inputs'!$H$23)>0, 'User Inputs'!$H$45*'Embedded Values'!$D$8, 0 ) + IF( N('User Inputs'!$J$23)>0, 'User Inputs'!$J$45*'Embedded Values'!$D$9, 0 ) ) * INDEX( 'Embedded Values'!$C$22:$C$33, MATCH( 'User Inputs'!$F$34, 'Embedded Values'!$B$22:$B$33, 0 ) ), 0 ), 0 ), IF( 'User Inputs'!$F$10>=4, IFERROR( (INDEX( 'Embedded Values'!$D$22:$D$33, MATCH( 'User Inputs'!$H$34, 'Embedded Values'!$B$22:$B$33, 0 ) )="Electrification") * ( IF( N('User Inputs'!$B$23)>0, 'User Inputs'!$B$47*'Embedded Values'!$D$5, 0 ) + IF( N('User Inputs'!$D$23)>0, 'User Inputs'!$D$47*'Embedded Values'!$D$6, 0 ) + IF( N('User Inputs'!$F$23)>0, 'User Inputs'!$F$47*'Embedded Values'!$D$7, 0 ) + IF( N('User Inputs'!$H$23)>0, 'User Inputs'!$H$47*'Embedded Values'!$D$8, 0 ) + IF( N('User Inputs'!$J$23)>0, 'User Inputs'!$J$47*'Embedded Values'!$D$9, 0 ) ) * INDEX( 'Embedded Values'!$C$22:$C$33, MATCH( 'User Inputs'!$H$34, 'Embedded Values'!$B$22:$B$33, 0 ) ), 0 ), 0 ) ) ) -> 0 | C38: Lifetime GHG Emissions Reduction from Energy Efficiency Projects (MTCO2e) | D38: =IF( OR('User Inputs'!$F$10="",'User Inputs'!$F$10=0), 0, SUM( IF( 'User Inputs'!$F$10>=1, IFERROR( (INDEX( 'Embedded Values'!$D$22:$D$33, MATCH( 'User Inputs'!$B$34, 'Embedded Values'!$B$22:$B$33, 0 ) )="Energy Efficiency") * ( IF( N('User Inputs'!$B$23)>0, 'User Inputs'!$B$41*'Embedded Values'!$D$5, 0 ) + IF( N('User Inputs'!$D$23)>0, 'User Inputs'!$D$41*'Embedded Values'!$D$6, 0 ) + IF( N('User Inputs'!$F$23)>0, 'User Inputs'!$F$41*'Embedded Values'!$D$7, 0 ) + IF( N('User Inputs'!$H$23)>0, 'User Inputs'!$H$41*'Embedded Values'!$D$8, 0 ) + IF( N('User Inputs'!$J$23)>0, 'User Inputs'!$J$41*'Embedded Values'!$D$9, 0 ) ) * INDEX( 'Embedded Values'!$C$22:$C$33, MATCH( 'User Inputs'!$B$34, 'Embedded Values'!$B$22:$B$33, 0 ) ), 0 ), 0 ), IF( 'User Inputs'!$F$10>=2, IFERROR( (INDEX( 'Embedded Values'!$D$22:$D$33, MATCH( 'User Inputs'!$D$34, 'Embedded Values'!$B$22:$B$33, 0 ) )="Energy Efficiency") * ( IF( N('User Inputs'!$B$23)>0, 'User Inputs'!$B$43*'Embedded Values'!$D$5, 0 ) + IF( N('User Inputs'!$D$23)>0, 'User Inputs'!$D$43*'Embedded Values'!$D$6, 0 ) + IF( N('User Inputs'!$F$23)>0, 'User Inputs'!$F$43*'Embedded Values'!$D$7, 0 ) + IF( N('User Inputs'!$H$23)>0, 'User Inputs'!$H$43*'Embedded Values'!$D$8, 0 ) + IF( N('User Inputs'!$J$23)>0, 'User Inputs'!$J$43*'Embedded Values'!$D$9, 0 ) ) * INDEX( 'Embedded Values'!$C$22:$C$33, MATCH( 'User Inputs'!$D$34, 'Embedded Values'!$B$22:$B$33, 0 ) ), 0 ), 0 ), IF( 'User Inputs'!$F$10>=3, IFERROR( (INDEX( 'Embedded Values'!$D$22:$D$33, MATCH( 'User Inputs'!$F$34, 'Embedded Values'!$B$22:$B$33, 0 ) )="Energy Efficiency") * ( IF( N('User Inputs'!$B$23)>0, 'User Inputs'!$B$45*'Embedded Values'!$D$5, 0 ) + IF( N('User Inputs'!$D$23)>0, 'User Inputs'!$D$45*'Embedded Values'!$D$6, 0 ) + IF( N('User Inputs'!$F$23)>0, 'User Inputs'!$F$45*'Embedded Values'!$D$7, 0 ) + IF( N('User Inputs'!$H$23)>0, 'User Inputs'!$H$45*'Embedded Values'!$D$8, 0 ) + IF( N('User Inputs'!$J$23)>0, 'User Inputs'!$J$45*'Embedded Values'!$D$9, 0 ) ) * INDEX( 'Embedded Values'!$C$22:$C$33, MATCH( 'User Inputs'!$F$34, 'Embedded Values'!$B$22:$B$33, 0 ) ), 0 ), 0 ), IF( 'User Inputs'!$F$10>=4, IFERROR( (INDEX( 'Embedded Values'!$D$22:$D$33, MATCH( 'User Inputs'!$H$34, 'Embedded Values'!$B$22:$B$33, 0 ) )="Energy Efficiency") * ( IF( N('User Inputs'!$B$23)>0, 'User Inputs'!$B$47*'Embedded Values'!$D$5, 0 ) + IF( N('User Inputs'!$D$23)>0, 'User Inputs'!$D$47*'Embedded Values'!$D$6, 0 ) + IF( N('User Inputs'!$F$23)>0, 'User Inputs'!$F$47*'Embedded Values'!$D$7, 0 ) + IF( N('User Inputs'!$H$23)>0, 'User Inputs'!$H$47*'Embedded Values'!$D$8, 0 ) + IF( N('User Inputs'!$J$23)>0, 'User Inputs'!$J$47*'Embedded Values'!$D$9, 0 ) ) * INDEX( 'Embedded Values'!$C$22:$C$33, MATCH( 'User Inputs'!$H$34, 'Embedded Values'!$B$22:$B$33, 0 ) ), 0 ), 0 ) ) ) -> 0 | E38: Lifetime GHG Emissions Reduction from Solar Projects (MTCO2e) | F38: =IF( $F$36<=0, 0, $F$36*'Embedded Values'!$C$33 ) -> 0 | I38: Total Lifetime GHG Emissions Reduction (MTCO2e) | J38: =SUM($B$38,$D$38,$F$38) -> 0

Sheet Embedded Values
B1: EMBEDDED VALUES
B3: EMISSIONS FACTORS | E3: DATA DATED | F3: SOURCE | G3: LINK
B4: Fuel | C4: Unit | D4: Emissions Factor (MT CO2e/unit) | F4: MEA Data
B5: Electricity | C5: kWh | D5: 0.0003077273
B6: Natural Gas | C6: therm | D6: 0.00535664
B7: Propane | C7: gallon | D7: 0.0058112625
B8: Fuel Oil #2 (heating oil) | C8: gallon | D8: 0.0103369
B9: Coal | C9: ton | D9: 0.6637
B11: DEFAULT ENERGY PRICES
B12: Fuel | C12: Unit | D12: Cost ($/unit)
B13: Electricity | C13: kWh | D13: 0.1819 | E13: 46023 | F13: Commercial cost | G13: https://www.eia.gov/state/data.php?sid=MD
B14: Natural Gas | C14: therm | D14: 0.7717 | E14: 46023 | F14: City Gate cost | G14: https://www.eia.gov/state/data.php?sid=MD
B15: Propane | C15: gallon | D15: 1.22 | E15: 46082
B16: Fuel Oil #2 (heating oil) | C16: gallon | D16: 4.612 | E16: 46082 | G16: https://www.eia.gov/dnav/pet/hist/LeafHandler.ashx?n=PET&s=W_EPD2F_PWR_SMD_DPG&f=W
B17: Coal | C17: ton | D17: 95.93 | E17: 44986 | G17: https://www.eia.gov/states/MD/data/dashboard/coal
B19: ECM LIST + ESTIMATED USEFUL LIFE
B20: ECM Type | C20: Expected Useful Life (Years) | D20: Project Category
B21: [Select an ECM from the dropdown list] | F21: MEA Assumptions
B22: HVAC & Heat Pump — Fuel Switching | C22: 20 | D22: Electrification
B23: HVAC & Heat Pump — Efficiency Upgrade | C23: 20 | D23: Energy Efficiency
B24: Commercial Appliances — Fuel Switching | C24: 20 | D24: Electrification
B25: Commercial Appliances — Efficiency Upgrade | C25: 20 | D25: Energy Efficiency
B26: Refrigeration Equipment | C26: 20 | D26: Energy Efficiency
B27: Air Sealing/ Insulation | C27: 20 | D27: Energy Efficiency
B28: Window and Exterior Door Replacements | C28: 20 | D28: Energy Efficiency
B29: Lighting — Interior LED | C29: 20 | D29: Energy Efficiency
B30: Lighting — Exterior and Street | C30: 20 | D30: Energy Efficiency
B31: Mechanical Insulation | C31: 20 | D31: Energy Efficiency
B32: Building Automation Systems/Controls | C32: 20 | D32: Energy Efficiency
B33: Solar | C33: 25 | D33: Solar
B35: ENERGY UNIT CONVERSION FACTORS
B36: Fuel | C36: Unit | D36: kBtu/Unit
B37: Electricity | C37: kWh | D37: 3.412
B38: Natural Gas | C38: therm | D38: 100
B39: Propane | C39: gallon | D39: 91.333
B40: Fuel Oil #2 (heating oil) | C40: gallon | D40: 138.5
B41: Coal | C41: ton | D41: 25090

Sheet MEA Incentives
A1: MEA INCENTIVES
A2: for FY27 Commercial & Community Buildings
A4: Commercial Buildings | B4: Electrification | C4: Energy Efficiency | D4: BEPS Bonus
A5: Lifetime MTCO2e Reduced (200 - 2,499) | B5: 300 | C5: 300 | D5: 50
A6: Lifetime MTCO2e Reduced (2,500 - 4,999) | B6: 350 | C6: 350 | D6: 50
A7: Lifetime MTCO2e Reduced (5,000+) | B7: 400 | C7: 400 | D7: 50
A8: Minimum Grant Amount | B8: 50000 | C8: 50000
A9: Maximum Grant Amount | B9: 2000000 | C9: 2000000
A10: Total Project Cost% Cap | B10: 0.65 | C10: 0.65
A13: Non-Profits | B13: Electrification | C13: Energy Efficiency | D13: BEPS Bonus
A14: Lifetime MTCO2e Reduced (200 - 2,499) | B14: 300 | C14: 300 | D14: 50
A15: Lifetime MTCO2e Reduced (2,500 - 4,999) | B15: 350 | C15: 350 | D15: 50
A16: Lifetime MTCO2e Reduced (5,000+) | B16: 400 | C16: 400 | D16: 50
A17: Minimum Grant Amount | B17: 50000 | C17: 50000
A18: Maximum Grant Amount | B18: 2000000 | C18: 2000000
A19: Total Project Cost % Cap | B19: 0.65 | C19: 0.65
A22: Local Governments | B22: Electrification | C22: Energy Efficiency
A23: Lifetime MTCO2e Reduced (200 - 2,499) | B23: 400 | C23: 400
A24: Lifetime MTCO2e Reduced (2,500 - 4,999) | B24: 450 | C24: 450
A25: Lifetime MTCO2e Reduced (5,000+) | B25: 500 | C25: 500
A26: Minimum Grant Amount | B26: 50000 | C26: 50000
A27: Maximum Grant Amount | B27: 2000000 | C27: 2000000
A28: Total Project Cost% Cap | B28: 0.8 | C28: 0.8
A31: Local Education Agencies (LEAs) PreK-12 Schools | B31: Electrification | C31: Energy Efficiency | D31: ENOUGH Act + Overburdened Bonus
A32: Lifetime MTCO2e Reduced (200 - 2,499) | B32: 450 | C32: 450 | D32: 50
A33: Lifetime MTCO2e Reduced (2,500 - 4,999) | B33: 500 | C33: 500 | D33: 50
A34: Lifetime MTCO2e Reduced (5,000+) | B34: 550 | C34: 550 | D34: 50
A35: Minimum Grant Amount | B35: 50000 | C35: 50000
A36: Maximum Grant Amount | B36: 3000000 | C36: 3000000
A37: Total Project Cost% Cap | B37: 0.9 | C37: 0.9
A40: Non-Profits Only (Solar) | B40: Solar I (Direct Ownership) | C40: Solar II (Third-Party Ownership) | D40: BEPS Bonus
A41: Groundmount & Rooftop Installations -- per kW | B41: 3000 | C41: 600 | D41: 50
A42: Solar Canopy Installations -- per kW | B42: 3500 | C42: 750 | D42: 50
A43: Minimum Grant Amount | B43: =B8 -> 50000 | C43: =C8 -> 50000
A44: Maximum Grant Amount | B44: 1000000 | C44: 1000000
A45: Total Project Cost% Cap | B45: 0.65 | C45: 0.65
A48: Local Governments (Solar) | B48: Solar I (Direct Ownership) | C48: Solar II (Third-Party Ownership)
A49: Groundmount & Rooftop Installations -- per kW | B49: 3000 | C49: 600
A50: Solar Canopy Installations -- per kW | B50: 3500 | C50: 750
A51: Minimum Grant Amount | B51: 50000 | C51: 50000
...

Sheet Updates Log
A1: Updates Log
A3: ID | B3: Date Logged | C3: Type | D3: Description | E3: Version | F3: Status
A5: 003 | B5: 46276 | C5: New Feature | D5: Added capability to select counties from a dropdown | E5: v1.001 | F5: Completed
A6: 002 | B6: 46276 | C6: Bug Fix | D6: ID 001_Bug Report addressed | E6: v1.001 | F6: Fixed
A7: 001 | B7: 46276 | C7: Bug Report | D7: The building is a PreK-12 Public School eligible for the $50 ENOUGH ACT and/or Overburdened $50 bonus, but the calculator is not reflecting the $50 bonus in the "Total MEA Grant Request" field on the User Inputs and Calculated Metrics tabs | E7: v1.000 | F7: Noted

Sheet Dev. Notes
B3: Solar PV Project
B4: None
B5: Ground Mount/Rooftop
B6: Solar Canopy
B7: Both
B9: Number of ECMs not including Solar
B10: 0
B11: 1
B12: 2
B13: 3
B14: 4
B16: Building Type
B17: Commercial
B18: Non-Profit
B19: Local Government
B20: PreK-12 Public School
B21: PreK-12 Public School - $50 Bonus Eligible
B23: Minimum Grant Amount for Mechanical Insulation Only
B24: 3000
B25: =AND( 'User Inputs'!$F$10=1, COUNTIF('User Inputs'!$B$34,"Mechanical Insulation") +COUNTIF('User Inputs'!$D$34,"Mechanical Insulation") +COUNTIF('User Inputs'!$F$34,"Mechanical Insulation") +COUNTIF('User Inputs'!$H$34,"Mechanical Insulation")=1, OR( 'User Inputs'!$B$10='Dev. Notes'!$B$17, 'User Inputs'!$H$10='Dev. Notes'!$B$4 ) ) -> FALSE
B27: Type of Ownership
B28: Direct Ownership
B29: Third-Party Ownership
B31: Solar Message Display
B32: Label | C32: Value
B33: Solar Section Label | C33: {=_xlfn.SWITCH( 'User Inputs'!$B$10, $B$18,'MEA Incentives'!$A$40, $B$19,'MEA Incentives'!$A$48, $B$20,'MEA Incentives'!$A$56, $B$21,'MEA Incentives'!$A$56, "" )}
B34: Solar Section Row | C34: =IF( $C$33="", 0, IFERROR( MATCH($C$33,'MEA Incentives'!$A$1:$A$61,0), 0 ) ) -> 0
B35: Ground Ownership Column | C35: {=IFERROR( _xlfn.SWITCH( 'User Inputs'!$D$58, $B$28,2, $B$29,3, 0 ), 0 )} -> 0
B36: Canopy Ownership Column | C36: {=IFERROR( _xlfn.SWITCH( 'User Inputs'!$D$60, $B$28,2, $B$29,3, 0 ), 0 )} -> 0
B37: Ground Rate Row | C37: =IF( $C$34=0, 0, $C$34+1 ) -> 0
B38: Canopy Rate Row | C38: =IF( $C$34=0, 0, $C$34+2 ) -> 0
B39: Solar Minimum Row | C39: =IF( $C$34=0, 0, $C$34+3 ) -> 0
B40: Solar Maximum Row | C40: =IF( $C$34=0, 0, $C$34+4 ) -> 0
B41: Ground Rate | C41: {=_xlfn.LET( _xlpm.baseRate, IF( OR($C$37<=0,$C$35<=0), 0, IFERROR( INDEX('MEA Incentives'!$A$1:$D$61,$C$37,$C$35), 0 ) ), _xlpm.bonusRate, IF( AND( _xlpm.baseRate>0, OR( 'User Inputs'!$B$10=$B$21, AND( 'User Inputs'!$B$10=$B$18, 'User Inputs'!$B$12="Yes" ) ) ), IFERROR( INDEX('MEA Incentives'!$A$1:$D$61,$C$37,4), 0 ), 0 ), _xlpm.baseRate+_xlpm.bonusRate )} -> 0
B42: Canopy Rate | C42: {=_xlfn.LET( _xlpm.baseRate, IF( OR($C$38<=0,$C$36<=0), 0, IFERROR( INDEX('MEA Incentives'!$A$1:$D$61,$C$38,$C$36), 0 ) ), _xlpm.bonusRate, IF( AND( _xlpm.baseRate>0, OR( 'User Inputs'!$B$10=$B$21, AND( 'User Inputs'!$B$10=$B$18, 'User Inputs'!$B$12="Yes" ) ) ), IFERROR( INDEX('MEA Incentives'!$A$1:$D$61,$C$38,4), 0 ), 0 ), _xlpm.baseRate+_xlpm.bonusRate )} -> 0
B43: Ground Minimum Grant | C43: {=IF( OR($C$39<=0,$C$35<=0), 0, IFERROR( INDEX('MEA Incentives'!$A$1:$D$61,$C$39,$C$35), 0 ) )} -> 0
B44: Ground Maximum Grant | C44: {=IF( OR($C$40<=0,$C$35<=0), 0, IFERROR( INDEX('MEA Incentives'!$A$1:$D$61,$C$40,$C$35), 0 ) )} -> 0
B45: Canopy Minimum Grant | C45: {=IF( OR($C$39<=0,$C$36<=0), 0, IFERROR( INDEX('MEA Incentives'!$A$1:$D$61,$C$39,$C$36), 0 ) )} -> 0
B46: Canopy Maximum Grant | C46: {=IF( OR($C$40<=0,$C$36<=0), 0, IFERROR( INDEX('MEA Incentives'!$A$1:$D$61,$C$40,$C$36), 0 ) )} -> 0
B47: Ground Raw Incentive | C47: =IF( OR( 'User Inputs'!$B$10=$B$17, 'User Inputs'!$H$10=$B$4 ), 0, IF( OR( 'User Inputs'!$H$10=$B$5, 'User Inputs'!$H$10=$B$7 ), IFERROR(--'User Inputs'!$B$58,0)*$C$41, 0 ) ) -> 0
...
