Workbook
Name Active_ECMs: CHOOSE({1,2,3,4}, 'User Inputs'!$B$34, 'User Inputs'!$D$34, 'User Inputs'!$F$34, 'User Inputs'!$H$34 )

Sheet Instructions
A3: USER INSTRUCTIONS
A4: This calculator is for FY27 Commercial & Community Buildings Grant Program applications. This calculator can be used to quantify the energy savings, cost savings, grant amounts, GHG emissions, and GHG reduction investment for proposed projects. Each building is eligible for only ONE grant application and ONE associated calculator. Applicants may submit a separate application and calculator for each additional building. This calculator is designed for use in Microsoft Excel. The calculator has three tabs for users: 'User Inputs' , 'Budget & Timeline', and 'Calculated Metrics'. Guidance on their use is provided below. Two other tabs are for reference only. Questions? Write to MEA at CommercialCommunity.MEA@maryland.gov
A6: USER INPUTS
A7: Section | B7: Description
A8: 1. Project Information | B8: Enter basic project details, including applicant information, building characteristics, and applicable Energy Conservation Measures (ECMs). Select the number of ECMs to display the corresponding ECM input fields. For projects requesting more than four ECMs, please contact commercialcommunity.mea@maryland.gov to request a version of the calculator that supports additional ECMs.
A9: 2. Baseline Energy Consumption | B9: Enter the building’s annual baseline energy consumption for electricity, natural gas, propane, Fuel Oil No. 2, and coal as applicable
A10: 3. Utility Rates | B10: Standardized values are used as default utility rates to determine projected costs
A11: 4. Proposed Measures | B11: Select the applicable electrification and energy efficiency measure(s). Eligible measures are listed on the "Embedded Values" tab, designated as Core, Tandem, or Standalone. A Core measure must be included in a project for a Tandem measure to be eligible. Standalone measures are eligible on their own. Only Local Government and PreK-12 Public School projects are eligible to apply for the Lighting measures. Commercial Buildings are not eligible for the Solar incentive.
A12: 5. Projected Energy Savings | B12: Enter the estimated annual energy savings for each selected ECM, including electricity, natural gas, propane, Fuel Oil No. 2 savings, and coal as applicable
A13: 6. Projected Costs | B13: Enter project costs for each selected ECM
A14: 7. Proposed Solar PV System | B14: For projects that include Solar PV, enter the proposed system size, ownership, estimated annual electricity production, total project cost, and requested grant amount for each applicable installation type
A15: 8. Solar PV Grant Request Validation | B15: Review the Solar PV validation results to confirm that the requested grant amount complies with the applicable MEA $/kW incentive rate and project cost share limit for each proposed installation type
A16: 9. Key Metrics | B16: Provides an at-a-glance summary of key metrics, eliminating the need to switch between tabs Total MEA Grant Request: The calculated Total MEA Grant Request represents the amount for which the project may qualify based on the applicable program requirements and applicant-entered information. It does not represent a final grant award.
A18: BUDGET & TIMELINE
A19: Section | B19: Description
A20: 1. Funding Sources | B20: Enter all project funding sources
A21: 2. Funding Uses | B21: Enter the estimated project costs, including the proposed use of grant funds and other eligible project expenses
A22: 3. Timeline | B22: Review the project timeline and enter the expected completion date for each applicable project milestone
A24: CALCULATED METRICS
A25: Section | B25: Description
A26: 1. Projected Energy Consumption | B26: Displays projected post-project energy consumption based on baseline consumption as impacted by eligible ECM savings or increases, and applicable Solar production
A27: 2. Projected Costs | B27: Displays eligible project costs based on the ECM and applicable Solar project costs entered in the User Inputs tab
A28: 3. Projected Savings | B28: Displays projected annual energy and utility cost savings based on eligible ECM impacts and applicable Solar production
A29: 4. Funding Impact | B29: Displays applicable incentive rates, calculated grant amounts, and applicable Solar PV funding metrics
A30: 5. Carbon Impact | B30: Displays the estimated annual greenhouse gas (GHG) emissions reductions associated with the projected energy savings using emissions factors from the “Embedded Values” tab

Sheet User Inputs
A3: USER INPUTS * Fields marked with an asterisk are required. Each building is eligible for only ONE grant application and ONE associated calculator.
A5: PROJECT INFORMATION
A6: Enter project-level information in the highlighted cells.
A8: Grantee/ Organization Name* | C8: Project Name* | E8: Project County* | G8: Maryland Benchmarking ID (UBID - Unique Building ID )* | I8: Montgomery County Benchmarking ID (MBID)*
A10: Building Type* | C10: Building Square Footage* | E10: Number of ECMs not including Solar* | G10: What type of Solar PV does this project include?*
A12: Is this building covered by BEPS?* | C12: Click here to check if your building is covered by State BEPS
C13: Click here to check if your building is covered by Montgomery County BEPS
C14: Click here to check if your PreK-12 Public School is covered by the ENOUGH Act
C15: Click here to check if your PreK-12 Public School is located in an Overburdened Census Tract
A17: Brief Project Description* (250 Character Limit )
A19: EXISTING CONDITIONS
A20: BASELINE ENERGY CONSUMPTION
A21: Enter current annual energy consumption for each applicable fuel type in the highlighted cells. Users must enter zero for fuel types that are not relevant to the facility. All energy consumption data should reflect the entire building's annual energy use.
A23: Electricity Consumption (kWh/year) | C23: Natural Gas Consumption (therms/year) | E23: Propane Consumption (gallons/year) | G23: Fuel Oil #2 Consumption (gallons/year) | I23: Coal Consumption (tons/year)
A25: UTILITY RATES
A26: Default utility rates are automatically populated using current standardized values.
A28: Electricity ($/kWh) | B28: ='Embedded Values'!$D$13 -> 0.1819 | C28: Natural Gas ($/therm) | D28: ='Embedded Values'!$D$14 -> 0.7717 | E28: Propane ($/gallon) | F28: ='Embedded Values'!$D$15 -> 1.22 | G28: Fuel Oil #2 ($/gallon) | H28: ='Embedded Values'!$D$16 -> 4.612 | I28: Coal ($/ton) | J28: ='Embedded Values'!$D$17 -> 95.93
A30: ELECTRIFICATION AND ENERGY EFFICIENCY
A31: PROPOSED MEASURES
A32: Select the applicable electrification and energy efficiency measure(s) below. Solar photovoltaic (PV) measures are entered separately in the Solar Measures section. If you need to include more than four ECMs, you can request a version of the calculator that contains space for additional ECMs
A34: ECM 1. | C34: ECM 2. | E34: ECM 3. | G34: ECM 4. | I34: =IF( $F$10=0, "Energy measures do not apply to this project application."&CHAR(10)&"↓ Scroll down to next section ↓", IF( 'Dev. Notes'!$C$94, "⚠ Not Standalone measure(s): Tandem measures require an eligible Core measure.", IF( 'Dev. Notes'!$C$100, "⚠ This building type is ineligible for the highlighted ECM(s).", "" ) ) ) -> Energy measures do not apply to this project application. ↓ Scroll down to next section ↓
A36: PROJECTED ENERGY SAVINGS
A37: Enter the expected annual energy savings for each ECM in the highlighted cells. Only enter data for fuel types relevant to the facility. Enter savings as positive values and increases as negative values. If a project is expected to result in an increase in electricity usage, enter the increase as a negative value.
A39: Electricity Savings | B39: kWh/year | C39: Natural Gas Savings | D39: therms/year | E39: Propane Savings | F39: gallons/year | G39: Fuel Oil Savings | H39: gallons/year | I39: Coal Savings | J39: tons/year
A41: =IF($B$34="[Select an ECM from the dropdown list]", "", $A$34&" "&$B$34 ) -> ECM 1. | C41: =$A$41 -> ECM 1. | E41: =$A$41 -> ECM 1. | G41: =$A$41 -> ECM 1. | I41: =$A$41 -> ECM 1.
A43: =IF($D$34="[Select an ECM from the dropdown list]", "", $C$34&" "&$D$34 ) -> ECM 2. | C43: =$A$43 -> ECM 2. | E43: =$A$43 -> ECM 2. | G43: =$A$43 -> ECM 2. | I43: =$A$43 -> ECM 2.
A45: =IF($F$34="[Select an ECM from the dropdown list]", "", $E$34&" "&$F$34 ) -> ECM 3. | C45: =$A$45 -> ECM 3. | E45: =$A$45 -> ECM 3. | G45: =$A$45 -> ECM 3. | I45: =$A$45 -> ECM 3.
A47: =IF($H$34="[Select an ECM from the dropdown list]", "", $G$34&" "&$H$34 ) -> ECM 4. | C47: =$A$47 -> ECM 4. | E47: =$A$47 -> ECM 4. | G47: =$A$47 -> ECM 4. | I47: =$A$47 -> ECM 4.
A49: PROJECTED COSTS
A50: Enter project costs for each selected ECM in the corresponding highlighted cells.
A52: =$A$41 -> ECM 1. | C52: =$A$43 -> ECM 2. | E52: =$A$45 -> ECM 3. | G52: =$A$47 -> ECM 4.
A54: SOLAR
A55: PROPOSED SOLAR PV SYSTEM
A56: Complete this section only for projects that include a solar PV installation. Enter the proposed system size, ownership, estimated annual electricity production, total project cost, and requested grant amount for each applicable installation type.
A57: GROUNDMOUNT OR ROOFTOP INSTALLATION
A58: Proposed Solar PV System Size (kW) | C58: Type of Ownership | E58: Estimated Annual Electricity Production (kWh/year) | G58: Solar PV System Total Project Costs | I58: Solar PV Requested Grant Amount
A59: =IF( $B$10='Dev. Notes'!$B$17, "Solar PV is not applicable to Commercial Buildings.", IF( $H$10='Dev. Notes'!$B$4, "No Solar PV in this project.", "SOLAR CANOPY INSTALLATION" ) ) -> SOLAR CANOPY INSTALLATION
A60: Proposed Solar PV System Size (kW) | C60: Type of Ownership | E60: Estimated Annual Electricity Production (kWh/year) | G60: Solar PV System Total Project Costs | I60: Solar PV Requested Grant Amount
A62: SOLAR PV COST VALIDATION
A63: The calculator automatically determines the requested grant amount per kW and verifies that the requested grant complies with the applicable MEA incentive rate and project cost share limit.
...

Sheet Budget & Timeline
A3: PROJECT BUDGET AND TIMELINE
A4: Fill out the budget and timeline tables to the best of your knowledge and ability. Estimations are acceptable. Add lines in the tables where needed. Be sure to account for the total project cost, which includes the requested MEA grant and all other sources and uses of funds.
A6: Organization Name | B6: =IF('User Inputs'!$B$8="","",'User Inputs'!$B$8) | C6: Project Description | D6: =IFERROR(IF('User Inputs'!$B$17="","",'User Inputs'!$B$17),"")
A8: FUNDING SOURCES
A9: Enter other sources and amounts of funding for this project, such as utility rebates or grants, which will be stacked along with the MEA grant. The grant value calculated indicates the requested amount for which this project may qualify, not the final award amount.
A10: Source | C10: Amount | E10: Percentage of Source Funds
E11: =IFERROR(C11/$C$19,0) -> 0
E12: =IFERROR(C12/$C$19,0) -> 0
E13: =IFERROR(C13/$C$19,0) -> 0
E14: =IFERROR(C14/$C$19,0) -> 0
E15: =IFERROR(C15/$C$19,0) -> 0
E16: =IFERROR(C16/$C$19,0) -> 0
E17: =IFERROR(C17/$C$19,0) -> 0
A18: MEA Commercial & Community Buildings Grant | C18: ='Calculated Metrics'!$F$32 -> Select building type in cell B10 of user inputs | E18: =IFERROR(C18/$C$19,0) -> 0
A19: TOTAL | C19: =SUM($C$11:$D$18) -> 0 | E19: =SUM($E$11:$F$18) -> 0
A21: FUNDING USES
A22: Line Item | C22: Source of Estimate | E22: Cost
A31: TOTAL | E31: =SUM($E$23:$E$30) -> 0
A33: TIMELINE
A34: Project Milestone | C34: Expected Completion Date
A35: Award Notice from MEA
A36: Pre-Implementation
A37: Design Completion
A38: Materials on Site
A39: Project Completion
A40: Final Report Submitted to MEA

Sheet Calculated Metrics
A3: CALCULATED METRICS
A4: This tab is only for viewing calculator outputs. No inputs are to be made here.
A6: PROJECTED ENERGY CONSUMPTION
A8: Electricity Consumption (kWh/year) | B8: =_xlfn.LET( _xlpm.baseline,IFERROR(--'User Inputs'!$B$23,0), _xlpm.ecmOne,IF( 'User Inputs'!$F$10>=1, IFERROR( AND( OR( INDEX('Embedded Values'!$F$22:$F$34,MATCH('User Inputs'!$B$34,'Embedded Values'!$B$22:$B$34,0))="All", ISNUMBER(SEARCH(";"&'User Inputs'!$B$10&";",";"&SUBSTITUTE(INDEX('Embedded Values'!$F$22:$F$34,MATCH('User Inputs'!$B$34,'Embedded Values'!$B$22:$B$34,0)),"; ",";")&";")) ), OR( INDEX('Embedded Values'!$E$22:$E$34,MATCH('User Inputs'!$B$34,'Embedded Values'!$B$22:$B$34,0))<>"Tandem", 'Dev. Notes'!$C$93=TRUE ) ), FALSE )*IFERROR(--'User Inputs'!$B$41,0), 0 ), _xlpm.ecmTwo,IF( 'User Inputs'!$F$10>=2, IFERROR( AND( OR( INDEX('Embedded Values'!$F$22:$F$34,MATCH('User Inputs'!$D$34,'Embedded Values'!$B$22:$B$34,0))="All", ISNUMBER(SEARCH(";"&'User Inputs'!$B$10&";",";"&SUBSTITUTE(INDEX('Embedded Values'!$F$22:$F$34,MATCH('User Inputs'!$D$34,'Embedded Values'!$B$22:$B$34,0)),"; ",";")&";")) ), OR( INDEX('Embedded Values'!$E$22:$E$34,MATCH('User Inputs'!$D$34,'Embedded Values'!$B$22:$B$34,0))<>"Tandem", 'Dev. Notes'!$C$93=TRUE ) ), FALSE )*IFERROR(--'User Inputs'!$B$43,0), 0 ), _xlpm.ecmThree,IF( 'User Inputs'!$F$10>=3, IFERROR( AND( OR( INDEX('Embedded Values'!$F$22:$F$34,MATCH('User Inputs'!$F$34,'Embedded Values'!$B$22:$B$34,0))="All", ISNUMBER(SEARCH(";"&'User Inputs'!$B$10&";",";"&SUBSTITUTE(INDEX('Embedded Values'!$F$22:$F$34,MATCH('User Inputs'!$F$34,'Embedded Values'!$B$22:$B$34,0)),"; ",";")&";")) ), OR( INDEX('Embedded Values'!$E$22:$E$34,MATCH('User Inputs'!$F$34,'Embedded Values'!$B$22:$B$34,0))<>"Tandem", 'Dev. Notes'!$C$93=TRUE ) ), FALSE )*IFERROR(--'User Inputs'!$B$45,0), 0 ), _xlpm.ecmFour,IF( 'User Inputs'!$F$10>=4, IFERROR( AND( OR( INDEX('Embedded Values'!$F$22:$F$34,MATCH('User Inputs'!$H$34,'Embedded Values'!$B$22:$B$34,0))="All", ISNUMBER(SEARCH(";"&'User Inputs'!$B$10&";",";"&SUBSTITUTE(INDEX('Embedded Values'!$F$22:$F$34,MATCH('User Inputs'!$H$34,'Embedded Values'!$B$22:$B$34,0)),"; ",";")&";")) ), OR( INDEX('Embedded Values'!$E$22:$E$34,MATCH('User Inputs'!$H$34,'Embedded Values'!$B$22:$B$34,0))<>"Tandem", 'Dev. Notes'!$C$93=TRUE ) ), FALSE )*IFERROR(--'User Inputs'!$B$47,0), 0 ), _xlpm.solarProduction, IF( 'User Inputs'!$B$10='Dev. Notes'!$B$17, 0, IF( OR( 'User Inputs'!$H$10='Dev. Notes'!$B$5, 'User Inputs'!$H$10="Both" ), IFERROR(--'User Inputs'!$F$58,0), 0 ) + IF( OR( 'User Inputs'!$H$10='Dev. Notes'!$B$6, 'User Inputs'!$H$10="Both" ), IFERROR(--'User Inputs'!$F$60,0), 0 ) ), _xlpm.baseline-_xlpm.ecmOne-_xlpm.ecmTwo-_xlpm.ecmThree-_xlpm.ecmFour-_xlpm.solarProduction ) -> 0 | C8: Natural Gas Consumption (therms/year) | D8: ='User Inputs'!$D$23- SUM( IF( 'User Inputs'!$F$10>=1, IFERROR( AND( OR( INDEX('Embedded Values'!$F$22:$F$34,MATCH('User Inputs'!$B$34,'Embedded Values'!$B$22:$B$34,0))="All", ISNUMBER(SEARCH(";"&'User Inputs'!$B$10&";",";"&SUBSTITUTE(INDEX('Embedded Values'!$F$22:$F$34,MATCH('User Inputs'!$B$34,'Embedded Values'!$B$22:$B$34,0)),"; ",";")&";")) ), OR( INDEX('Embedded Values'!$E$22:$E$34,MATCH('User Inputs'!$B$34,'Embedded Values'!$B$22:$B$34,0))<>"Tandem", 'Dev. Notes'!$C$93=TRUE ) )*IFERROR(--'User Inputs'!$D$41,0), 0 ), 0 ), IF( 'User Inputs'!$F$10>=2, IFERROR( AND( OR( INDEX('Embedded Values'!$F$22:$F$34,MATCH('User Inputs'!$D$34,'Embedded Values'!$B$22:$B$34,0))="All", ISNUMBER(SEARCH(";"&'User Inputs'!$B$10&";",";"&SUBSTITUTE(INDEX('Embedded Values'!$F$22:$F$34,MATCH('User Inputs'!$D$34,'Embedded Values'!$B$22:$B$34,0)),"; ",";")&";")) ), OR( INDEX('Embedded Values'!$E$22:$E$34,MATCH('User Inputs'!$D$34,'Embedded Values'!$B$22:$B$34,0))<>"Tandem", 'Dev. Notes'!$C$93=TRUE ) )*IFERROR(--'User Inputs'!$D$43,0), 0 ), 0 ), IF( 'User Inputs'!$F$10>=3, IFERROR( AND( OR( INDEX('Embedded Values'!$F$22:$F$34,MATCH('User Inputs'!$F$34,'Embedded Values'!$B$22:$B$34,0))="All", ISNUMBER(SEARCH(";"&'User Inputs'!$B$10&";",";"&SUBSTITUTE(INDEX('Embedded Values'!$F$22:$F$34,MATCH('User Inputs'!$F$34,'Embedded Values'!$B$22:$B$34,0)),"; ",";")&";")) ), OR( INDEX('Embedded Values'!$E$22:$E$34,MATCH('User Inputs'!$F$34,'Embedded Values'!$B$22:$B$34,0))<>"Tandem", 'Dev. Notes'!$C$93=TRUE ) )*IFERROR(--'User Inputs'!$D$45,0), 0 ), 0 ), IF( 'User Inputs'!$F$10>=4, IFERROR( AND( OR( INDEX('Embedded Values'!$F$22:$F$34,MATCH('User Inputs'!$H$34,'Embedded Values'!$B$22:$B$34,0))="All", ISNUMBER(SEARCH(";"&'User Inputs'!$B$10&";",";"&SUBSTITUTE(INDEX('Embedded Values'!$F$22:$F$34,MATCH('User Inputs'!$H$34,'Embedded Values'!$B$22:$B$34,0)),"; ",";")&";")) ), OR( INDEX('Embedded Values'!$E$22:$E$34,MATCH('User Inputs'!$H$34,'Embedded Values'!$B$22:$B$34,0))<>"Tandem", 'Dev. Notes'!$C$93=TRUE ) )*IFERROR(--'User Inputs'!$D$47,0), 0 ), 0 ) ) -> 0 | E8: Propane Consumption (gallons/year) | F8: ='User Inputs'!$F$23- SUM( IF( 'User Inputs'!$F$10>=1, IFERROR( AND( OR( INDEX('Embedded Values'!$F$22:$F$34,MATCH('User Inputs'!$B$34,'Embedded Values'!$B$22:$B$34,0))="All", ISNUMBER(SEARCH(";"&'User Inputs'!$B$10&";",";"&SUBSTITUTE(INDEX('Embedded Values'!$F$22:$F$34,MATCH('User Inputs'!$B$34,'Embedded Values'!$B$22:$B$34,0)),"; ",";")&";")) ), OR( INDEX('Embedded Values'!$E$22:$E$34,MATCH('User Inputs'!$B$34,'Embedded Values'!$B$22:$B$34,0))<>"Tandem", 'Dev. Notes'!$C$93=TRUE ) )*IFERROR(--'User Inputs'!$F$41,0), 0 ), 0 ), IF( 'User Inputs'!$F$10>=2, IFERROR( AND( OR( INDEX('Embedded Values'!$F$22:$F$34,MATCH('User Inputs'!$D$34,'Embedded Values'!$B$22:$B$34,0))="All", ISNUMBER(SEARCH(";"&'User Inputs'!$B$10&";",";"&SUBSTITUTE(INDEX('Embedded Values'!$F$22:$F$34,MATCH('User Inputs'!$D$34,'Embedded Values'!$B$22:$B$34,0)),"; ",";")&";")) ), OR( INDEX('Embedded Values'!$E$22:$E$34,MATCH('User Inputs'!$D$34,'Embedded Values'!$B$22:$B$34,0))<>"Tandem", 'Dev. Notes'!$C$93=TRUE ) )*IFERROR(--'User Inputs'!$F$43,0), 0 ), 0 ), IF( 'User Inputs'!$F$10>=3, IFERROR( AND( OR( INDEX('Embedded Values'!$F$22:$F$34,MATCH('User Inputs'!$F$34,'Embedded Values'!$B$22:$B$34,0))="All", ISNUMBER(SEARCH(";"&'User Inputs'!$B$10&";",";"&SUBSTITUTE(INDEX('Embedded Values'!$F$22:$F$34,MATCH('User Inputs'!$F$34,'Embedded Values'!$B$22:$B$34,0)),"; ",";")&";")) ), OR( INDEX('Embedded Values'!$E$22:$E$34,MATCH('User Inputs'!$F$34,'Embedded Values'!$B$22:$B$34,0))<>"Tandem", 'Dev. Notes'!$C$93=TRUE ) )*IFERROR(--'User Inputs'!$F$45,0), 0 ), 0 ), IF( 'User Inputs'!$F$10>=4, IFERROR( AND( OR( INDEX('Embedded Values'!$F$22:$F$34,MATCH('User Inputs'!$H$34,'Embedded Values'!$B$22:$B$34,0))="All", ISNUMBER(SEARCH(";"&'User Inputs'!$B$10&";",";"&SUBSTITUTE(INDEX('Embedded Values'!$F$22:$F$34,MATCH('User Inputs'!$H$34,'Embedded Values'!$B$22:$B$34,0)),"; ",";")&";")) ), OR( INDEX('Embedded Values'!$E$22:$E$34,MATCH('User Inputs'!$H$34,'Embedded Values'!$B$22:$B$34,0))<>"Tandem", 'Dev. Notes'!$C$93=TRUE ) )*IFERROR(--'User Inputs'!$F$47,0), 0 ), 0 ) ) -> 0 | G8: Fuel Oil #2 Consumption (gallons/year) | H8: ='User Inputs'!$H$23- SUM( IF( 'User Inputs'!$F$10>=1, IFERROR( AND( OR( INDEX('Embedded Values'!$F$22:$F$34,MATCH('User Inputs'!$B$34,'Embedded Values'!$B$22:$B$34,0))="All", ISNUMBER(SEARCH(";"&'User Inputs'!$B$10&";",";"&SUBSTITUTE(INDEX('Embedded Values'!$F$22:$F$34,MATCH('User Inputs'!$B$34,'Embedded Values'!$B$22:$B$34,0)),"; ",";")&";")) ), OR( INDEX('Embedded Values'!$E$22:$E$34,MATCH('User Inputs'!$B$34,'Embedded Values'!$B$22:$B$34,0))<>"Tandem", 'Dev. Notes'!$C$93=TRUE ) )*IFERROR(--'User Inputs'!$H$41,0), 0 ), 0 ), IF( 'User Inputs'!$F$10>=2, IFERROR( AND( OR( INDEX('Embedded Values'!$F$22:$F$34,MATCH('User Inputs'!$D$34,'Embedded Values'!$B$22:$B$34,0))="All", ISNUMBER(SEARCH(";"&'User Inputs'!$B$10&";",";"&SUBSTITUTE(INDEX('Embedded Values'!$F$22:$F$34,MATCH('User Inputs'!$D$34,'Embedded Values'!$B$22:$B$34,0)),"; ",";")&";")) ), OR( INDEX('Embedded Values'!$E$22:$E$34,MATCH('User Inputs'!$D$34,'Embedded Values'!$B$22:$B$34,0))<>"Tandem", 'Dev. Notes'!$C$93=TRUE ) )*IFERROR(--'User Inputs'!$H$43,0), 0 ), 0 ), IF( 'User Inputs'!$F$10>=3, IFERROR( AND( OR( INDEX('Embedded Values'!$F$22:$F$34,MATCH('User Inputs'!$F$34,'Embedded Values'!$B$22:$B$34,0))="All", ISNUMBER(SEARCH(";"&'User Inputs'!$B$10&";",";"&SUBSTITUTE(INDEX('Embedded Values'!$F$22:$F$34,MATCH('User Inputs'!$F$34,'Embedded Values'!$B$22:$B$34,0)),"; ",";")&";")) ), OR( INDEX('Embedded Values'!$E$22:$E$34,MATCH('User Inputs'!$F$34,'Embedded Values'!$B$22:$B$34,0))<>"Tandem", 'Dev. Notes'!$C$93=TRUE ) )*IFERROR(--'User Inputs'!$H$45,0), 0 ), 0 ), IF( 'User Inputs'!$F$10>=4, IFERROR( AND( OR( INDEX('Embedded Values'!$F$22:$F$34,MATCH('User Inputs'!$H$34,'Embedded Values'!$B$22:$B$34,0))="All", ISNUMBER(SEARCH(";"&'User Inputs'!$B$10&";",";"&SUBSTITUTE(INDEX('Embedded Values'!$F$22:$F$34,MATCH('User Inputs'!$H$34,'Embedded Values'!$B$22:$B$34,0)),"; ",";")&";")) ), OR( INDEX('Embedded Values'!$E$22:$E$34,MATCH('User Inputs'!$H$34,'Embedded Values'!$B$22:$B$34,0))<>"Tandem", 'Dev. Notes'!$C$93=TRUE ) )*IFERROR(--'User Inputs'!$H$47,0), 0 ), 0 ) ) -> 0 | I8: Coal Consumption (tons/year) | J8: ='User Inputs'!$J$23- SUM( IF( 'User Inputs'!$F$10>=1, IFERROR( AND( OR( INDEX('Embedded Values'!$F$22:$F$34,MATCH('User Inputs'!$B$34,'Embedded Values'!$B$22:$B$34,0))="All", ISNUMBER(SEARCH(";"&'User Inputs'!$B$10&";",";"&SUBSTITUTE(INDEX('Embedded Values'!$F$22:$F$34,MATCH('User Inputs'!$B$34,'Embedded Values'!$B$22:$B$34,0)),"; ",";")&";")) ), OR( INDEX('Embedded Values'!$E$22:$E$34,MATCH('User Inputs'!$B$34,'Embedded Values'!$B$22:$B$34,0))<>"Tandem", 'Dev. Notes'!$C$93=TRUE ) )*IFERROR(--'User Inputs'!$J$41,0), 0 ), 0 ), IF( 'User Inputs'!$F$10>=2, IFERROR( AND( OR( INDEX('Embedded Values'!$F$22:$F$34,MATCH('User Inputs'!$D$34,'Embedded Values'!$B$22:$B$34,0))="All", ISNUMBER(SEARCH(";"&'User Inputs'!$B$10&";",";"&SUBSTITUTE(INDEX('Embedded Values'!$F$22:$F$34,MATCH('User Inputs'!$D$34,'Embedded Values'!$B$22:$B$34,0)),"; ",";")&";")) ), OR( INDEX('Embedded Values'!$E$22:$E$34,MATCH('User Inputs'!$D$34,'Embedded Values'!$B$22:$B$34,0))<>"Tandem", 'Dev. Notes'!$C$93=TRUE ) )*IFERROR(--'User Inputs'!$J$43,0), 0 ), 0 ), IF( 'User Inputs'!$F$10>=3, IFERROR( AND( OR( INDEX('Embedded Values'!$F$22:$F$34,MATCH('User Inputs'!$F$34,'Embedded Values'!$B$22:$B$34,0))="All", ISNUMBER(SEARCH(";"&'User Inputs'!$B$10&";",";"&SUBSTITUTE(INDEX('Embedded Values'!$F$22:$F$34,MATCH('User Inputs'!$F$34,'Embedded Values'!$B$22:$B$34,0)),"; ",";")&";")) ), OR( INDEX('Embedded Values'!$E$22:$E$34,MATCH('User Inputs'!$F$34,'Embedded Values'!$B$22:$B$34,0))<>"Tandem", 'Dev. Notes'!$C$93=TRUE ) )*IFERROR(--'User Inputs'!$J$45,0), 0 ), 0 ), IF( 'User Inputs'!$F$10>=4, IFERROR( AND( OR( INDEX('Embedded Values'!$F$22:$F$34,MATCH('User Inputs'!$H$34,'Embedded Values'!$B$22:$B$34,0))="All", ISNUMBER(SEARCH(";"&'User Inputs'!$B$10&";",";"&SUBSTITUTE(INDEX('Embedded Values'!$F$22:$F$34,MATCH('User Inputs'!$H$34,'Embedded Values'!$B$22:$B$34,0)),"; ",";")&";")) ), OR( INDEX('Embedded Values'!$E$22:$E$34,MATCH('User Inputs'!$H$34,'Embedded Values'!$B$22:$B$34,0))<>"Tandem", 'Dev. Notes'!$C$93=TRUE ) )*IFERROR(--'User Inputs'!$J$47,0), 0 ), 0 ) ) -> 0
A10: PROJECTED COSTS
I12: Total ECM Projects Cost ($) | J12: =SUM( IF( 'User Inputs'!$F$10>=1, IFERROR( OR( INDEX( 'Embedded Values'!$F$22:$F$34, MATCH('User Inputs'!$B$34,'Embedded Values'!$B$22:$B$34,0) )="All", ISNUMBER( SEARCH( ";"&'User Inputs'!$B$10&";", ";"& SUBSTITUTE( INDEX( 'Embedded Values'!$F$22:$F$34, MATCH('User Inputs'!$B$34,'Embedded Values'!$B$22:$B$34,0) ), "; ", ";" )& ";" ) ) )* OR( INDEX( 'Embedded Values'!$E$22:$E$34, MATCH('User Inputs'!$B$34,'Embedded Values'!$B$22:$B$34,0) )<>"Tandem", 'Dev. Notes'!$C$93=TRUE )* 'User Inputs'!$B$52, 0 ), 0 ), IF( 'User Inputs'!$F$10>=2, IFERROR( OR( INDEX( 'Embedded Values'!$F$22:$F$34, MATCH('User Inputs'!$D$34,'Embedded Values'!$B$22:$B$34,0) )="All", ISNUMBER( SEARCH( ";"&'User Inputs'!$B$10&";", ";"& SUBSTITUTE( INDEX( 'Embedded Values'!$F$22:$F$34, MATCH('User Inputs'!$D$34,'Embedded Values'!$B$22:$B$34,0) ), "; ", ";" )& ";" ) ) )* OR( INDEX( 'Embedded Values'!$E$22:$E$34, MATCH('User Inputs'!$D$34,'Embedded Values'!$B$22:$B$34,0) )<>"Tandem", 'Dev. Notes'!$C$93=TRUE )* 'User Inputs'!$D$52, 0 ), 0 ), IF( 'User Inputs'!$F$10>=3, IFERROR( OR( INDEX( 'Embedded Values'!$F$22:$F$34, MATCH('User Inputs'!$F$34,'Embedded Values'!$B$22:$B$34,0) )="All", ISNUMBER( SEARCH( ";"&'User Inputs'!$B$10&";", ";"& SUBSTITUTE( INDEX( 'Embedded Values'!$F$22:$F$34, MATCH('User Inputs'!$F$34,'Embedded Values'!$B$22:$B$34,0) ), "; ", ";" )& ";" ) ) )* OR( INDEX( 'Embedded Values'!$E$22:$E$34, MATCH('User Inputs'!$F$34,'Embedded Values'!$B$22:$B$34,0) )<>"Tandem", 'Dev. Notes'!$C$93=TRUE )* 'User Inputs'!$F$52, 0 ), 0 ), IF( 'User Inputs'!$F$10>=4, IFERROR( OR( INDEX( 'Embedded Values'!$F$22:$F$34, MATCH('User Inputs'!$H$34,'Embedded Values'!$B$22:$B$34,0) )="All", ISNUMBER( SEARCH( ";"&'User Inputs'!$B$10&";", ";"& SUBSTITUTE( INDEX( 'Embedded Values'!$F$22:$F$34, MATCH('User Inputs'!$H$34,'Embedded Values'!$B$22:$B$34,0) ), "; ", ";" )& ";" ) ) )* OR( INDEX( 'Embedded Values'!$E$22:$E$34, MATCH('User Inputs'!$H$34,'Embedded Values'!$B$22:$B$34,0) )<>"Tandem", 'Dev. Notes'!$C$93=TRUE )* 'User Inputs'!$H$52, 0 ), 0 ), IF( AND( 'User Inputs'!$B$10<>'Dev. Notes'!$B$17, OR( 'User Inputs'!$H$10='Dev. Notes'!$B$5, 'User Inputs'!$H$10="Both" ) ), IFERROR(--'User Inputs'!$H$58,0), 0 ), IF( AND( 'User Inputs'!$B$10<>'Dev. Notes'!$B$17, OR( 'User Inputs'!$H$10='Dev. Notes'!$B$6, 'User Inputs'!$H$10="Both" ) ), IFERROR(--'User Inputs'!$H$60,0), 0 ) ) -> 0
A14: PROJECTED SAVINGS
A16: Electricity (kWh/year) | B16: =IFERROR('User Inputs'!$B$23-'Calculated Metrics'!$B$8,0) -> 0 | C16: Natural Gas (therms/year) | D16: =IFERROR('User Inputs'!$D$23-'Calculated Metrics'!$D$8,0) -> 0 | E16: Propane (gallons/year) | F16: =IFERROR('User Inputs'!$F$23-'Calculated Metrics'!$F$8,0) -> 0 | G16: Fuel Oil #2 (gallons/year) | H16: =IFERROR('User Inputs'!$H$23-'Calculated Metrics'!$H$8,0) -> 0 | I16: Coal (tons/year) | J16: =IFERROR('User Inputs'!$J$23-'Calculated Metrics'!$J$8,0) -> 0
A18: ='User Inputs'!$A$72 -> Current Energy Use Intensity [EUI] (kBTU/ft2) | B18: ='User Inputs'!$B$72 -> Enter floor area in cell D10 | C18: ='User Inputs'!$C$72 -> Projected Energy Use Intensity [EUI] (kBTU/ft2) | D18: ='User Inputs'!$D$72 -> Enter floor area in cell D10 | G18: Annual Cost Savings ($/year) | H18: =IFERROR( _xlfn.LET( _xlpm.ecmCount,'User Inputs'!$F$10, _xlpm.solarSelected,'User Inputs'!$H$10, _xlpm.building,'User Inputs'!$B$10, _xlpm.solarApplicable, AND( _xlpm.building<>'Dev. Notes'!$B$17, OR( _xlpm.solarSelected='Dev. Notes'!$B$5, _xlpm.solarSelected='Dev. Notes'!$B$6, _xlpm.solarSelected="Both" ) ), _xlpm.elecSavings, IFERROR('User Inputs'!$B$23-'Calculated Metrics'!$B$8,0), _xlpm.gasSavings, IF( OR(_xlpm.ecmCount="",_xlpm.ecmCount=0), 0, IFERROR('User Inputs'!$D$23-'Calculated Metrics'!$D$8,0) ), _xlpm.propaneSavings, IF( OR(_xlpm.ecmCount="",_xlpm.ecmCount=0), 0, IFERROR('User Inputs'!$F$23-'Calculated Metrics'!$F$8,0) ), _xlpm.oilSavings, IF( OR(_xlpm.ecmCount="",_xlpm.ecmCount=0), 0, IFERROR('User Inputs'!$H$23-'Calculated Metrics'!$H$8,0) ), _xlpm.coalSavings, IF( OR(_xlpm.ecmCount="",_xlpm.ecmCount=0), 0, IFERROR('User Inputs'!$J$23-'Calculated Metrics'!$J$8,0) ), _xlpm.invalidRates, OR( AND(_xlpm.elecSavings<>0,OR(NOT(ISNUMBER('User Inputs'!$B$28)),'User Inputs'!$B$28<0)), AND(_xlpm.gasSavings<>0,OR(NOT(ISNUMBER('User Inputs'!$D$28)),'User Inputs'!$D$28<0)), AND(_xlpm.propaneSavings<>0,OR(NOT(ISNUMBER('User Inputs'!$F$28)),'User Inputs'!$F$28<0)), AND(_xlpm.oilSavings<>0,OR(NOT(ISNUMBER('User Inputs'!$H$28)),'User Inputs'!$H$28<0)), AND(_xlpm.coalSavings<>0,OR(NOT(ISNUMBER('User Inputs'!$J$28)),'User Inputs'!$J$28<0)) ), IF( AND( OR(_xlpm.ecmCount="",_xlpm.ecmCount=0), NOT(_xlpm.solarApplicable) ), "Add ECMs or Solar in cell F10 or H10", IF( _xlpm.invalidRates, "Check default rates in row 28", _xlpm.elecSavings*'User Inputs'!$B$28+ _xlpm.gasSavings*'User Inputs'!$D$28+ _xlpm.propaneSavings*'User Inputs'!$F$28+ _xlpm.oilSavings*'User Inputs'!$H$28+ _xlpm.coalSavings*'User Inputs'!$J$28 ) ) ), "Check savings inputs in rows 41-47" ) -> Add ECMs or Solar in cell F10 or H10 | I18: Simple Payback Period (years) | J18: =IF( ISTEXT($H$18), $H$18, IF( $J$12<0, "Project cost is negative. Check rows 52, 58 or 60", IF( $J$12=0, IF( 'Dev. Notes'!$C$94, "N/A - Unsupported Tandem measure(s).", IF( 'Dev. Notes'!$C$100, "N/A - This building type is ineligible for the selected measure.", "Fill in Project Costs" ) ), IF( $H$18<=0, "N/A - Annual Cost Savings are zero or negative", $J$12/$H$18 ) ) ) ) -> Add ECMs or Solar in cell F10 or H10
A20: FUNDING IMPACT
A22: Electrification - Total Project Cost | B22: =IF( IFERROR(VALUE('User Inputs'!$F$10),0)=0, 0, SUM( IF( 'User Inputs'!$F$10>=1, IFERROR( ( INDEX('Embedded Values'!$D$22:$D$34,MATCH('User Inputs'!$B$34,'Embedded Values'!$B$22:$B$34,0))="Electrification" )* OR( INDEX('Embedded Values'!$F$22:$F$34,MATCH('User Inputs'!$B$34,'Embedded Values'!$B$22:$B$34,0))="All", ISNUMBER(SEARCH(";"&'User Inputs'!$B$10&";",";"&SUBSTITUTE(INDEX('Embedded Values'!$F$22:$F$34,MATCH('User Inputs'!$B$34,'Embedded Values'!$B$22:$B$34,0)),"; ",";")&";")) )* OR( INDEX('Embedded Values'!$E$22:$E$34,MATCH('User Inputs'!$B$34,'Embedded Values'!$B$22:$B$34,0))<>"Tandem", 'Dev. Notes'!$C$93=TRUE )* IFERROR(--'User Inputs'!$B$52,0), 0 ), 0 ), IF( 'User Inputs'!$F$10>=2, IFERROR( ( INDEX('Embedded Values'!$D$22:$D$34,MATCH('User Inputs'!$D$34,'Embedded Values'!$B$22:$B$34,0))="Electrification" )* OR( INDEX('Embedded Values'!$F$22:$F$34,MATCH('User Inputs'!$D$34,'Embedded Values'!$B$22:$B$34,0))="All", ISNUMBER(SEARCH(";"&'User Inputs'!$B$10&";",";"&SUBSTITUTE(INDEX('Embedded Values'!$F$22:$F$34,MATCH('User Inputs'!$D$34,'Embedded Values'!$B$22:$B$34,0)),"; ",";")&";")) )* OR( INDEX('Embedded Values'!$E$22:$E$34,MATCH('User Inputs'!$D$34,'Embedded Values'!$B$22:$B$34,0))<>"Tandem", 'Dev. Notes'!$C$93=TRUE )* IFERROR(--'User Inputs'!$D$52,0), 0 ), 0 ), IF( 'User Inputs'!$F$10>=3, IFERROR( ( INDEX('Embedded Values'!$D$22:$D$34,MATCH('User Inputs'!$F$34,'Embedded Values'!$B$22:$B$34,0))="Electrification" )* OR( INDEX('Embedded Values'!$F$22:$F$34,MATCH('User Inputs'!$F$34,'Embedded Values'!$B$22:$B$34,0))="All", ISNUMBER(SEARCH(";"&'User Inputs'!$B$10&";",";"&SUBSTITUTE(INDEX('Embedded Values'!$F$22:$F$34,MATCH('User Inputs'!$F$34,'Embedded Values'!$B$22:$B$34,0)),"; ",";")&";")) )* OR( INDEX('Embedded Values'!$E$22:$E$34,MATCH('User Inputs'!$F$34,'Embedded Values'!$B$22:$B$34,0))<>"Tandem", 'Dev. Notes'!$C$93=TRUE )* IFERROR(--'User Inputs'!$F$52,0), 0 ), 0 ), IF( 'User Inputs'!$F$10>=4, IFERROR( ( INDEX('Embedded Values'!$D$22:$D$34,MATCH('User Inputs'!$H$34,'Embedded Values'!$B$22:$B$34,0))="Electrification" )* OR( INDEX('Embedded Values'!$F$22:$F$34,MATCH('User Inputs'!$H$34,'Embedded Values'!$B$22:$B$34,0))="All", ISNUMBER(SEARCH(";"&'User Inputs'!$B$10&";",";"&SUBSTITUTE(INDEX('Embedded Values'!$F$22:$F$34,MATCH('User Inputs'!$H$34,'Embedded Values'!$B$22:$B$34,0)),"; ",";")&";")) )* OR( INDEX('Embedded Values'!$E$22:$E$34,MATCH('User Inputs'!$H$34,'Embedded Values'!$B$22:$B$34,0))<>"Tandem", 'Dev. Notes'!$C$93=TRUE )* IFERROR(--'User Inputs'!$H$52,0), 0 ), 0 ) ) ) -> 0 | C22: Energy Efficiency - Total Project Cost | D22: =IF( IFERROR(VALUE('User Inputs'!$F$10),0)=0, 0, SUM( IF( 'User Inputs'!$F$10>=1, IFERROR( ( INDEX( 'Embedded Values'!$D$22:$D$34, MATCH('User Inputs'!$B$34,'Embedded Values'!$B$22:$B$34,0) )="Energy Efficiency" )* OR( INDEX( 'Embedded Values'!$F$22:$F$34, MATCH('User Inputs'!$B$34,'Embedded Values'!$B$22:$B$34,0) )="All", ISNUMBER( SEARCH( ";"&'User Inputs'!$B$10&";", ";"& SUBSTITUTE( INDEX( 'Embedded Values'!$F$22:$F$34, MATCH('User Inputs'!$B$34,'Embedded Values'!$B$22:$B$34,0) ), "; ", ";" )& ";" ) ) )* OR( INDEX( 'Embedded Values'!$E$22:$E$34, MATCH('User Inputs'!$B$34,'Embedded Values'!$B$22:$B$34,0) )<>"Tandem", 'Dev. Notes'!$C$93=TRUE )* 'User Inputs'!$B$52, 0 ), 0 ), IF( 'User Inputs'!$F$10>=2, IFERROR( ( INDEX( 'Embedded Values'!$D$22:$D$34, MATCH('User Inputs'!$D$34,'Embedded Values'!$B$22:$B$34,0) )="Energy Efficiency" )* OR( INDEX( 'Embedded Values'!$F$22:$F$34, MATCH('User Inputs'!$D$34,'Embedded Values'!$B$22:$B$34,0) )="All", ISNUMBER( SEARCH( ";"&'User Inputs'!$B$10&";", ";"& SUBSTITUTE( INDEX( 'Embedded Values'!$F$22:$F$34, MATCH('User Inputs'!$D$34,'Embedded Values'!$B$22:$B$34,0) ), "; ", ";" )& ";" ) ) )* OR( INDEX( 'Embedded Values'!$E$22:$E$34, MATCH('User Inputs'!$D$34,'Embedded Values'!$B$22:$B$34,0) )<>"Tandem", 'Dev. Notes'!$C$93=TRUE )* 'User Inputs'!$D$52, 0 ), 0 ), IF( 'User Inputs'!$F$10>=3, IFERROR( ( INDEX( 'Embedded Values'!$D$22:$D$34, MATCH('User Inputs'!$F$34,'Embedded Values'!$B$22:$B$34,0) )="Energy Efficiency" )* OR( INDEX( 'Embedded Values'!$F$22:$F$34, MATCH('User Inputs'!$F$34,'Embedded Values'!$B$22:$B$34,0) )="All", ISNUMBER( SEARCH( ";"&'User Inputs'!$B$10&";", ";"& SUBSTITUTE( INDEX( 'Embedded Values'!$F$22:$F$34, MATCH('User Inputs'!$F$34,'Embedded Values'!$B$22:$B$34,0) ), "; ", ";" )& ";" ) ) )* OR( INDEX( 'Embedded Values'!$E$22:$E$34, MATCH('User Inputs'!$F$34,'Embedded Values'!$B$22:$B$34,0) )<>"Tandem", 'Dev. Notes'!$C$93=TRUE )* 'User Inputs'!$F$52, 0 ), 0 ), IF( 'User Inputs'!$F$10>=4, IFERROR( ( INDEX( 'Embedded Values'!$D$22:$D$34, MATCH('User Inputs'!$H$34,'Embedded Values'!$B$22:$B$34,0) )="Energy Efficiency" )* OR( INDEX( 'Embedded Values'!$F$22:$F$34, MATCH('User Inputs'!$H$34,'Embedded Values'!$B$22:$B$34,0) )="All", ISNUMBER( SEARCH( ";"&'User Inputs'!$B$10&";", ";"& SUBSTITUTE( INDEX( 'Embedded Values'!$F$22:$F$34, MATCH('User Inputs'!$H$34,'Embedded Values'!$B$22:$B$34,0) ), "; ", ";" )& ";" ) ) )* OR( INDEX( 'Embedded Values'!$E$22:$E$34, MATCH('User Inputs'!$H$34,'Embedded Values'!$B$22:$B$34,0) )<>"Tandem", 'Dev. Notes'!$C$93=TRUE )* 'User Inputs'!$H$52, 0 ), 0 ) ) ) -> 0 | E22: Solar - Total Project Cost | F22: {=IF( OR( 'User Inputs'!$B$10='Dev. Notes'!$B$17, 'User Inputs'!$H$10='Dev. Notes'!$B$4 ), 0, _xlfn.SWITCH( 'User Inputs'!$H$10, 'Dev. Notes'!$B$5,IFERROR(--'User Inputs'!$H$58,0), 'Dev. Notes'!$B$6,IFERROR(--'User Inputs'!$H$60,0), 'Dev. Notes'!$B$7, IFERROR(--'User Inputs'!$H$58,0) +IFERROR(--'User Inputs'!$H$60,0), 0 ) )} -> 0 | G22: =_xlfn.LET( _xlpm.reduction,IFERROR(--$B$38,0), _xlpm.rate,IFERROR(--$B$24,0), _xlpm.calculated,IFERROR(--$B$26,0), _xlpm.totalReduction,IFERROR(--$J$38,0), _xlpm.prefix,"¹ ", _xlpm.tandemNote, IF( 'Dev. Notes'!$C$94, " One or more unsupported Tandem measures have been excluded from this calculation.", "" ), _xlpm.eligibilityNote, IF( 'Dev. Notes'!$C$100, " One or more measures that are ineligible for the selected building type have been excluded from this calculation.", "" ), IF( _xlpm.reduction<=0, IF( OR('Dev. Notes'!$C$94,'Dev. Notes'!$C$100), _xlpm.prefix& "No eligible Electrification incentive remains after excluding ineligible measures.", "" ), IF( _xlpm.totalReduction<200, _xlpm.prefix& "The incentive is $0 because total projected lifetime emissions reductions are below the 200 MTCO₂e minimum."& _xlpm.tandemNote& _xlpm.eligibilityNote, IF( _xlpm.rate<=0, "", _xlpm.prefix& "The calculated Electrification incentive is $"& TEXT(_xlpm.calculated,"#,##0")& " based on "& TEXT(_xlpm.reduction,"#,##0.0")& " MTCO₂e of reductions at $"& TEXT(_xlpm.rate,"#,##0")& " per MTCO₂e."& _xlpm.tandemNote& _xlpm.eligibilityNote ) ) ) )
A24: Electrification - $/Lifetime MTCO2e Reduced | B24: {=_xlfn.LET( _xlpm.reduction,IFERROR(--$J$38,0), _xlpm.projectCost,IFERROR(--$B$22,0), _xlpm.building,'User Inputs'!$B$10, _xlpm.sectionRow, _xlfn.SWITCH( _xlpm.building, 'Dev. Notes'!$B$17,ROW('MEA Incentives'!$A$4), 'Dev. Notes'!$B$18,ROW('MEA Incentives'!$A$13), 'Dev. Notes'!$B$19,ROW('MEA Incentives'!$A$22), 'Dev. Notes'!$B$20,ROW('MEA Incentives'!$A$31), 'Dev. Notes'!$B$21,ROW('MEA Incentives'!$A$31), 0 ), _xlpm.tierRow, IF( OR( _xlpm.sectionRow=0, _xlpm.reduction<200, _xlpm.projectCost<=0 ), 0, IF( _xlpm.reduction<=2499, _xlpm.sectionRow+1, IF( _xlpm.reduction<=4999, _xlpm.sectionRow+2, _xlpm.sectionRow+3 ) ) ), _xlpm.rateColumn, COLUMN('MEA Incentives'!$B$4), _xlpm.bonusColumn, COLUMN('MEA Incentives'!$D$4), _xlpm.baseRate, IF( _xlpm.tierRow=0, 0, IFERROR( INDEX( 'MEA Incentives'!$A:$D, _xlpm.tierRow, _xlpm.rateColumn ), 0 ) ), _xlpm.bonusEligible, IF( OR( _xlpm.building='Dev. Notes'!$B$17, _xlpm.building='Dev. Notes'!$B$18 ), 'User Inputs'!$B$12="Yes", _xlpm.building='Dev. Notes'!$B$21 ), _xlpm.bonusRate, IF( OR( _xlpm.tierRow=0, NOT(_xlpm.bonusEligible) ), 0, IFERROR( INDEX( 'MEA Incentives'!$A:$D, _xlpm.tierRow, _xlpm.bonusColumn ), 0 ) ), _xlpm.baseRate+_xlpm.bonusRate )} -> 0 | C24: Energy Efficiency - $/Lifetime MTCO2e Reduced | D24: {=_xlfn.LET( _xlpm.reduction,IFERROR(--$J$38,0), _xlpm.projectCost,IFERROR(--$D$22,0), _xlpm.building,'User Inputs'!$B$10, _xlpm.onlyMI,'Dev. Notes'!$B$25, _xlpm.sectionRow, _xlfn.SWITCH( _xlpm.building, 'Dev. Notes'!$B$17,ROW('MEA Incentives'!$A$4), 'Dev. Notes'!$B$18,ROW('MEA Incentives'!$A$13), 'Dev. Notes'!$B$19,ROW('MEA Incentives'!$A$22), 'Dev. Notes'!$B$20,ROW('MEA Incentives'!$A$31), 'Dev. Notes'!$B$21,ROW('MEA Incentives'!$A$31), 0 ), _xlpm.tierRow, IF( OR( _xlpm.onlyMI, _xlpm.sectionRow=0, _xlpm.reduction<200, _xlpm.projectCost<=0 ), 0, IF( _xlpm.reduction<=2499, _xlpm.sectionRow+1, IF( _xlpm.reduction<=4999, _xlpm.sectionRow+2, _xlpm.sectionRow+3 ) ) ), _xlpm.rateColumn, COLUMN('MEA Incentives'!$C$4), _xlpm.bonusColumn, COLUMN('MEA Incentives'!$D$4), _xlpm.baseRate, IF( _xlpm.tierRow=0, 0, IFERROR( INDEX( 'MEA Incentives'!$A:$D, _xlpm.tierRow, _xlpm.rateColumn ), 0 ) ), _xlpm.bonusEligible, IF( OR( _xlpm.building='Dev. Notes'!$B$17, _xlpm.building='Dev. Notes'!$B$18 ), 'User Inputs'!$B$12="Yes", _xlpm.building='Dev. Notes'!$B$21 ), _xlpm.bonusRate, IF( OR( _xlpm.tierRow=0, NOT(_xlpm.bonusEligible) ), 0, IFERROR( INDEX( 'MEA Incentives'!$A:$D, _xlpm.tierRow, _xlpm.bonusColumn ), 0 ) ), _xlpm.baseRate+_xlpm.bonusRate )} -> 0 | E24: Solar - Applicable Incentive Rate(s) | F24: {=_xlfn.LET( _xlpm.solarType,'User Inputs'!$H$10, _xlpm.building,'User Inputs'!$B$10, _xlpm.groundRate,IFERROR(--'Dev. Notes'!$C$41,0), _xlpm.canopyRate,IFERROR(--'Dev. Notes'!$C$42,0), IF( OR( _xlpm.building='Dev. Notes'!$B$17, _xlpm.solarType='Dev. Notes'!$B$4 ), "", _xlfn.SWITCH( _xlpm.solarType, 'Dev. Notes'!$B$5, _xlpm.groundRate, 'Dev. Notes'!$B$6, _xlpm.canopyRate, 'Dev. Notes'!$B$7, "Ground: $"& TEXT(_xlpm.groundRate,"#,##0")& "/kW"& CHAR(10)& "Canopy: $"& TEXT(_xlpm.canopyRate,"#,##0")& "/kW", "" ) ) )} | G24: =_xlfn.LET( _xlpm.reduction,IFERROR(--$D$38,0), _xlpm.rate,IFERROR(--$D$24,0), _xlpm.calculated,IFERROR(--$D$26,0), _xlpm.totalReduction,IFERROR(--$J$38,0), _xlpm.onlyMI,'Dev. Notes'!$B$25, _xlpm.miProjectCost,IFERROR(--$D$22,0), _xlpm.prefix,"² ", _xlpm.tandemNote, IF( 'Dev. Notes'!$C$94, " One or more unsupported Tandem measures have been excluded from this calculation.", "" ), _xlpm.eligibilityNote, IF( 'Dev. Notes'!$C$100, " One or more measures that are ineligible for the selected building type have been excluded from this calculation.", "" ), _xlpm.miMin,IFERROR(--'MEA Incentives'!$B$65,0), _xlpm.miMax,IFERROR(--'MEA Incentives'!$B$66,0), _xlpm.miPctCap,IFERROR(--'MEA Incentives'!$B$67,0), _xlpm.miMinProjectCost,IFERROR(--'MEA Incentives'!$B$68,0), _xlpm.miCalculated,_xlpm.miProjectCost*_xlpm.miPctCap, _xlpm.miFinal,MIN(_xlpm.miCalculated,_xlpm.miMax), IF( _xlpm.onlyMI, IF( _xlpm.miProjectCost<_xlpm.miMinProjectCost, _xlpm.prefix& "The Mechanical Insulation project cost of $"& TEXT(_xlpm.miProjectCost,"#,##0")& " is below the $"& TEXT(_xlpm.miMinProjectCost,"#,##0")& " minimum project cost.", IF( _xlpm.miFinal<_xlpm.miMin, _xlpm.prefix& "The calculated Mechanical Insulation grant of $"& TEXT(_xlpm.miFinal,"#,##0")& " is below the $"& TEXT(_xlpm.miMin,"#,##0")& " minimum grant amount.", IF( _xlpm.miCalculated>_xlpm.miMax, _xlpm.prefix& "The calculated Mechanical Insulation grant of $"& TEXT(_xlpm.miCalculated,"#,##0")& " has been capped at $"& TEXT(_xlpm.miFinal,"#,##0")& " based on the Track 4 maximum grant amount.", _xlpm.prefix& "The Mechanical Insulation grant is $"& TEXT(_xlpm.miFinal,"#,##0")& " and is within the applicable Track 4 funding limits." ) ) ), IF( _xlpm.reduction<=0, IF( OR('Dev. Notes'!$C$94,'Dev. Notes'!$C$100), _xlpm.prefix& "No eligible Energy Efficiency incentive remains after excluding ineligible measures.", "" ), IF( _xlpm.totalReduction<200, _xlpm.prefix& "The Energy Efficiency incentive is $0 because total projected lifetime emissions reductions are below the 200 MTCO₂e minimum."& _xlpm.tandemNote& _xlpm.eligibilityNote, IF( _xlpm.rate<=0, "", _xlpm.prefix& "The calculated Energy Efficiency incentive is $"& TEXT(_xlpm.calculated,"#,##0")& " based on "& TEXT(_xlpm.reduction,"#,##0.0")& " MTCO₂e of reductions at $"& TEXT(_xlpm.rate,"#,##0")& " per MTCO₂e."& _xlpm.tandemNote& _xlpm.eligibilityNote ) ) ) ) )
A26: Calculated Incentives for Electrification1 | B26: =_xlfn.LET( _xlpm.reduction,IFERROR(--$B$38,0), _xlpm.rate,IFERROR(--$B$24,0), _xlpm.calculated, _xlpm.reduction*_xlpm.rate, IF( OR( _xlpm.reduction<=0, _xlpm.rate<=0 ), 0, _xlpm.calculated ) ) -> 0 | C26: Calculated Incentives for Energy Efficiency2 | D26: =_xlfn.LET( _xlpm.reduction,IFERROR(--$D$38,0), _xlpm.rate,IFERROR(--$D$24,0), _xlpm.onlyMI,'Dev. Notes'!$B$25, _xlpm.projectCost,IFERROR(--$D$22,0), _xlpm.calculated, _xlpm.reduction*_xlpm.rate, _xlpm.miMin, IFERROR(--'MEA Incentives'!$B$65,0), _xlpm.miMax, IFERROR(--'MEA Incentives'!$B$66,0), _xlpm.miPctCap, IFERROR(--'MEA Incentives'!$B$67,0), _xlpm.miMinProjectCost, IFERROR(--'MEA Incentives'!$B$68,0), _xlpm.miCalculated, _xlpm.projectCost*_xlpm.miPctCap, _xlpm.miFinalGrant, MIN(_xlpm.miCalculated,_xlpm.miMax), IF( _xlpm.onlyMI, IF( OR( _xlpm.projectCost<_xlpm.miMinProjectCost, _xlpm.miFinalGrant<_xlpm.miMin ), 0, _xlpm.miFinalGrant ), IF( OR( _xlpm.reduction<=0, _xlpm.rate<=0 ), 0, _xlpm.calculated ) ) ) -> 0 | E26: Calculated Incentives for Solar3 | F26: {=_xlfn.LET( _xlpm.solarType,'User Inputs'!$H$10, _xlpm.groundRaw,IFERROR(--'Dev. Notes'!$C$47,0), _xlpm.canopyRaw,IFERROR(--'Dev. Notes'!$C$49,0), _xlpm.calculatedSolar,_xlpm.groundRaw+_xlpm.canopyRaw, _xlpm.groundCost, IF( OR( _xlpm.solarType='Dev. Notes'!$B$5, _xlpm.solarType="Both" ), IFERROR(--'User Inputs'!$H$58,0), 0 ), _xlpm.canopyCost, IF( OR( _xlpm.solarType='Dev. Notes'!$B$6, _xlpm.solarType="Both" ), IFERROR(--'User Inputs'!$H$60,0), 0 ), _xlpm.totalSolarCost,_xlpm.groundCost+_xlpm.canopyCost, _xlpm.groundMin,IFERROR(--'Dev. Notes'!$C$43,0), _xlpm.canopyMin,IFERROR(--'Dev. Notes'!$C$45,0), _xlpm.solarMin,MAX(_xlpm.groundMin,_xlpm.canopyMin), _xlpm.groundMax,IFERROR(--'Dev. Notes'!$C$44,0), _xlpm.canopyMax,IFERROR(--'Dev. Notes'!$C$46,0), _xlpm.solarMax,MAX(_xlpm.groundMax,_xlpm.canopyMax), _xlpm.building,'User Inputs'!$B$10, _xlpm.solarPctCap, _xlfn.SWITCH( _xlpm.building, 'Dev. Notes'!$B$18,'MEA Incentives'!$B$45, 'Dev. Notes'!$B$19,'MEA Incentives'!$B$53, 'Dev. Notes'!$B$20,'MEA Incentives'!$B$61, 'Dev. Notes'!$B$21,'MEA Incentives'!$B$61, 0 ), _xlpm.projectCostCap,_xlpm.totalSolarCost*_xlpm.solarPctCap, _xlpm.finalSolar, MIN( _xlpm.calculatedSolar, _xlpm.solarMax, _xlpm.projectCostCap ), IF( OR( _xlpm.calculatedSolar<=0, _xlpm.totalSolarCost<=0, _xlpm.solarMin<=0, _xlpm.solarMax<=0, _xlpm.solarPctCap<=0, _xlpm.finalSolar<_xlpm.solarMin ), 0, _xlpm.finalSolar ) )} -> 0 | G26: {=_xlfn.LET( _xlpm.solarType,'User Inputs'!$H$10, _xlpm.solarGrant,IFERROR(--$F$26,0), _xlpm.groundRaw,IFERROR(--'Dev. Notes'!$C$47,0), _xlpm.canopyRaw,IFERROR(--'Dev. Notes'!$C$49,0), _xlpm.rawSolar,_xlpm.groundRaw+_xlpm.canopyRaw, _xlpm.groundCost, IF( OR( _xlpm.solarType='Dev. Notes'!$B$5, _xlpm.solarType="Both" ), IFERROR(--'User Inputs'!$H$58,0), 0 ), _xlpm.canopyCost, IF( OR( _xlpm.solarType='Dev. Notes'!$B$6, _xlpm.solarType="Both" ), IFERROR(--'User Inputs'!$H$60,0), 0 ), _xlpm.solarCost,_xlpm.groundCost+_xlpm.canopyCost, _xlpm.solarMin, MAX( IFERROR(--'Dev. Notes'!$C$43,0), IFERROR(--'Dev. Notes'!$C$45,0) ), _xlpm.solarMax, MAX( IFERROR(--'Dev. Notes'!$C$44,0), IFERROR(--'Dev. Notes'!$C$46,0) ), _xlpm.building,'User Inputs'!$B$10, _xlpm.solarPctCap, _xlfn.SWITCH( _xlpm.building, 'Dev. Notes'!$B$18,'MEA Incentives'!$B$45, 'Dev. Notes'!$B$19,'MEA Incentives'!$B$53, 'Dev. Notes'!$B$20,'MEA Incentives'!$B$61, 'Dev. Notes'!$B$21,'MEA Incentives'!$B$61, 0 ), _xlpm.solarCostCap,_xlpm.solarCost*_xlpm.solarPctCap, _xlpm.prefix,"³ ", _xlpm.solarLabel, IF( _xlpm.solarType="Both", "combined Solar", IF( _xlpm.solarType='Dev. Notes'!$B$5, "Ground/Rooftop Solar", IF( _xlpm.solarType='Dev. Notes'!$B$6, "Canopy Solar", "Solar" ) ) ), IF( OR( _xlpm.building='Dev. Notes'!$B$17, _xlpm.solarType='Dev. Notes'!$B$4, _xlpm.rawSolar<=0 ), "", IF( _xlpm.solarGrant<=0, IF( MIN(_xlpm.rawSolar,_xlpm.solarMax,_xlpm.solarCostCap)<_xlpm.solarMin, _xlpm.prefix& "The calculated "& _xlpm.solarLabel& " incentive of $"& TEXT(MIN(_xlpm.rawSolar,_xlpm.solarMax,_xlpm.solarCostCap),"#,##0")& " is below the $"& TEXT(_xlpm.solarMin,"#,##0")& " minimum Solar grant amount.", _xlpm.prefix& "No eligible "& _xlpm.solarLabel& " grant was calculated. Check the Solar project cost, system size, ownership, and eligibility inputs." ), IF( _xlpm.solarGrant<_xlpm.rawSolar, _xlpm.prefix& "The calculated "& _xlpm.solarLabel& " incentive of $"& TEXT(_xlpm.rawSolar,"#,##0")& " has been capped at $"& TEXT(_xlpm.solarGrant,"#,##0")& " after applying the applicable Solar maximum grant and project cost cap.", _xlpm.prefix& "The "& _xlpm.solarLabel& " incentive of $"& TEXT(_xlpm.solarGrant,"#,##0")& " meets the minimum grant requirement and is within the applicable Solar funding limits." ) ) ) )}
E27: GROUNDMOUNT OR ROOFTOP INSTALLATION
E28: ='User Inputs'!$I$65 -> Solar PV Requested Grant Amount per kW | F28: ='User Inputs'!$J$65 | G28: ='User Inputs'!$A$65
E29: SOLAR CANOPY INSTALLATION
E30: ='User Inputs'!$I$67 -> Solar PV Requested Grant Amount per kW | F30: ='User Inputs'!$J$67 | G30: ='User Inputs'!$A$67
E32: Total MEA Grant Request | F32: {=_xlfn.LET( _xlpm.electrification,IFERROR(--$B$26,0), _xlpm.efficiency,IFERROR(--$D$26,0), _xlpm.solar,IFERROR(--$F$26,0), _xlpm.eeCalculated,_xlpm.electrification+_xlpm.efficiency, _xlpm.eeProjectCost,IFERROR(--$B$22,0)+IFERROR(--$D$22,0), _xlpm.totalProjectCost,IFERROR(--$J$12,0), _xlpm.totalReduction,IFERROR(--$J$38,0), _xlpm.building,'User Inputs'!$B$10, _xlpm.onlyMI,'Dev. Notes'!$B$25, _xlpm.sectionRow, _xlfn.SWITCH( _xlpm.building, 'Dev. Notes'!$B$17,ROW('MEA Incentives'!$A$4), 'Dev. Notes'!$B$18,ROW('MEA Incentives'!$A$13), 'Dev. Notes'!$B$19,ROW('MEA Incentives'!$A$22), 'Dev. Notes'!$B$20,ROW('MEA Incentives'!$A$31), 'Dev. Notes'!$B$21,ROW('MEA Incentives'!$A$31), 0 ), _xlpm.incentiveColumn,COLUMN('MEA Incentives'!$B$4), _xlpm.minGrantRow,IF(_xlpm.sectionRow=0,0,_xlpm.sectionRow+4), _xlpm.maxGrantRow,IF(_xlpm.sectionRow=0,0,_xlpm.sectionRow+5), _xlpm.pctCapRow,IF(_xlpm.sectionRow=0,0,_xlpm.sectionRow+6), _xlpm.minGrant, IF(_xlpm.minGrantRow=0,0,IFERROR(INDEX('MEA Incentives'!$A:$D,_xlpm.minGrantRow,_xlpm.incentiveColumn),0)), _xlpm.maxGrant, IF(_xlpm.maxGrantRow=0,0,IFERROR(INDEX('MEA Incentives'!$A:$D,_xlpm.maxGrantRow,_xlpm.incentiveColumn),0)), _xlpm.pctCap, IF(_xlpm.pctCapRow=0,0,IFERROR(INDEX('MEA Incentives'!$A:$D,_xlpm.pctCapRow,_xlpm.incentiveColumn),0)), _xlpm.eeProjectCostCap,_xlpm.eeProjectCost*_xlpm.pctCap, _xlpm.eeAllowed, IF( OR(_xlpm.eeCalculated<=0,_xlpm.totalReduction<200), 0, MIN(_xlpm.eeCalculated,_xlpm.maxGrant,_xlpm.eeProjectCostCap) ), _xlpm.eeFinal, IF(_xlpm.eeAllowed<_xlpm.minGrant,0,_xlpm.eeAllowed), IF( _xlpm.building="", "Select building type in cell B10 of user inputs", IF( _xlpm.totalProjectCost<0, "Project costs in rows 52, 58 or 60 of user inputs must be > 0", IF( _xlpm.totalProjectCost=0, IF( 'Dev. Notes'!$C$94, "N/A - Unsupported Tandem measure(s).", IF( 'Dev. Notes'!$C$100, "N/A - This building type is ineligible for the selected measure.", "Enter project costs in rows 52, 58 or 60 of user inputs" ) ), IF( _xlpm.onlyMI, _xlpm.efficiency, IF( _xlpm.eeFinal+_xlpm.solar<=0, "No grant amount calculated. Check inputs and eligibility", _xlpm.eeFinal+_xlpm.solar ) ) ) ) ) )} -> Select building type in cell B10 of user inputs | G32: {=_xlfn.LET( _xlpm.electrification,IFERROR(--$B$26,0), _xlpm.efficiency,IFERROR(--$D$26,0), _xlpm.solar,IFERROR(--$F$26,0), _xlpm.eeCalculated,_xlpm.electrification+_xlpm.efficiency, _xlpm.eeProjectCost,IFERROR(--$B$22,0)+IFERROR(--$D$22,0), _xlpm.totalReduction,IFERROR(--$J$38,0), _xlpm.building,'User Inputs'!$B$10, _xlpm.onlyMI,'Dev. Notes'!$B$25, _xlpm.solarType,'User Inputs'!$H$10, _xlpm.sectionRow, _xlfn.SWITCH( _xlpm.building, 'Dev. Notes'!$B$17,ROW('MEA Incentives'!$A$4), 'Dev. Notes'!$B$18,ROW('MEA Incentives'!$A$13), 'Dev. Notes'!$B$19,ROW('MEA Incentives'!$A$22), 'Dev. Notes'!$B$20,ROW('MEA Incentives'!$A$31), 'Dev. Notes'!$B$21,ROW('MEA Incentives'!$A$31), 0 ), _xlpm.incentiveColumn,COLUMN('MEA Incentives'!$B$4), _xlpm.minGrant, IF( _xlpm.sectionRow=0, 0, IFERROR( INDEX('MEA Incentives'!$A:$D,_xlpm.sectionRow+4,_xlpm.incentiveColumn), 0 ) ), _xlpm.maxGrant, IF( _xlpm.sectionRow=0, 0, IFERROR( INDEX('MEA Incentives'!$A:$D,_xlpm.sectionRow+5,_xlpm.incentiveColumn), 0 ) ), _xlpm.pctCap, IF( _xlpm.sectionRow=0, 0, IFERROR( INDEX('MEA Incentives'!$A:$D,_xlpm.sectionRow+6,_xlpm.incentiveColumn), 0 ) ), _xlpm.eeCostCap,_xlpm.eeProjectCost*_xlpm.pctCap, _xlpm.eeAllowed, IF( OR( _xlpm.eeCalculated<=0, _xlpm.totalReduction<200 ), 0, MIN( _xlpm.eeCalculated, _xlpm.maxGrant, _xlpm.eeCostCap ) ), _xlpm.eeFinal, IF( _xlpm.eeAllowed<_xlpm.minGrant, 0, _xlpm.eeAllowed ), _xlpm.groundRaw,IFERROR(--'Dev. Notes'!$C$47,0), _xlpm.canopyRaw,IFERROR(--'Dev. Notes'!$C$49,0), _xlpm.solarRaw,_xlpm.groundRaw+_xlpm.canopyRaw, _xlpm.groundCost, IF( OR( _xlpm.solarType='Dev. Notes'!$B$5, _xlpm.solarType="Both" ), IFERROR(--'User Inputs'!$H$58,0), 0 ), _xlpm.canopyCost, IF( OR( _xlpm.solarType='Dev. Notes'!$B$6, _xlpm.solarType="Both" ), IFERROR(--'User Inputs'!$H$60,0), 0 ), _xlpm.solarCost,_xlpm.groundCost+_xlpm.canopyCost, _xlpm.solarMin, MAX( IFERROR(--'Dev. Notes'!$C$43,0), IFERROR(--'Dev. Notes'!$C$45,0) ), _xlpm.solarMax, MAX( IFERROR(--'Dev. Notes'!$C$44,0), IFERROR(--'Dev. Notes'!$C$46,0) ), _xlpm.solarPctCap, _xlfn.SWITCH( _xlpm.building, 'Dev. Notes'!$B$18,'MEA Incentives'!$B$45, 'Dev. Notes'!$B$19,'MEA Incentives'!$B$53, 'Dev. Notes'!$B$20,'MEA Incentives'!$B$61, 'Dev. Notes'!$B$21,'MEA Incentives'!$B$61, 0 ), _xlpm.solarCostCap,_xlpm.solarCost*_xlpm.solarPctCap, _xlpm.solarAllowed,MIN(_xlpm.solarRaw,_xlpm.solarMax,_xlpm.solarCostCap), _xlpm.miProjectCost,IFERROR(--$D$22,0), _xlpm.miMin,IFERROR(--'MEA Incentives'!$B$65,0), _xlpm.miMax,IFERROR(--'MEA Incentives'!$B$66,0), _xlpm.miPctCap,IFERROR(--'MEA Incentives'!$B$67,0), _xlpm.miMinProjectCost,IFERROR(--'MEA Incentives'!$B$68,0), _xlpm.miCalculated,_xlpm.miProjectCost*_xlpm.miPctCap, _xlpm.miAllowed,MIN(_xlpm.miCalculated,_xlpm.miMax), _xlpm.finalGrant, IF( _xlpm.onlyMI, _xlpm.efficiency, _xlpm.eeFinal+_xlpm.solar ), _xlpm.eeNote, IF( _xlpm.eeCalculated<=0, "", IF( _xlpm.totalReduction<200, " The Electrification and Energy Efficiency portion is ineligible because total projected lifetime emissions reductions are below the 200 MTCO₂e minimum.", IF( _xlpm.eeAllowed<_xlpm.minGrant, " The Electrification and Energy Efficiency portion did not meet the $"& TEXT(_xlpm.minGrant,"#,##0")& " minimum grant amount.", IF( _xlpm.eeAllowed<_xlpm.eeCalculated, " The Electrification and Energy Efficiency incentive was capped at $"& TEXT(_xlpm.eeAllowed,"#,##0")& " based on the applicable funding limits.", "" ) ) ) ), _xlpm.solarNote, IF( _xlpm.solarRaw<=0, "", IF( AND( _xlpm.solar<=0, _xlpm.solarAllowed<_xlpm.solarMin ), " The Solar portion did not meet the $"& TEXT(_xlpm.solarMin,"#,##0")& " minimum grant amount.", IF( _xlpm.solar<_xlpm.solarRaw, " The Solar incentive was capped at $"& TEXT(_xlpm.solar,"#,##0")& " based on the applicable Solar funding limits.", "" ) ) ), _xlpm.tandemNote, IF( 'Dev. Notes'!$C$94, " Unsupported Tandem measures were excluded from the calculation.", "" ), _xlpm.eligibilityNote, IF( 'Dev. Notes'!$C$100, " Measures that are ineligible for the selected building type were excluded from the calculation.", "" ), IF( _xlpm.building="", "", IF( _xlpm.onlyMI, IF( _xlpm.miProjectCost<_xlpm.miMinProjectCost, "No Mechanical Insulation grant amount was calculated because the project cost is below the $"& TEXT(_xlpm.miMinProjectCost,"#,##0")& " Track 4 minimum project cost.", IF( _xlpm.miAllowed<_xlpm.miMin, "No Mechanical Insulation grant amount was calculated because the calculated grant is below the $"& TEXT(_xlpm.miMin,"#,##0")& " Track 4 minimum grant amount.", IF( _xlpm.miAllowed<_xlpm.miCalculated, "The final calculated Mechanical Insulation grant amount is $"& TEXT(_xlpm.finalGrant,"#,##0")& ". The grant was capped at $"& TEXT(_xlpm.miMax,"#,##0")& " based on the Track 4 maximum grant amount.", "The final calculated Mechanical Insulation grant amount is $"& TEXT(_xlpm.finalGrant,"#,##0")& " and is within the applicable Track 4 funding limits." ) ) ), IF( _xlpm.finalGrant<=0, "No eligible grant amount was calculated."& _xlpm.eeNote& _xlpm.solarNote& _xlpm.tandemNote& _xlpm.eligibilityNote, "The final calculated grant amount is $"& TEXT(_xlpm.finalGrant,"#,##0")& "."& _xlpm.eeNote& _xlpm.solarNote& _xlpm.tandemNote& _xlpm.eligibilityNote ) ) ) )}
A34: CARBON IMPACT
